BEGIN:VCALENDAR
VERSION:2.0
PRODID:-// - ECPv6.15.20//NONSGML v1.0//EN
CALSCALE:GREGORIAN
METHOD:PUBLISH
X-ORIGINAL-URL:https://www.sfvhbt.org
X-WR-CALDESC:Events for 
REFRESH-INTERVAL;VALUE=DURATION:PT1H
X-Robots-Tag:noindex
X-PUBLISHED-TTL:PT1H
BEGIN:VTIMEZONE
TZID:America/Los_Angeles
BEGIN:DAYLIGHT
TZOFFSETFROM:-0800
TZOFFSETTO:-0700
TZNAME:PDT
DTSTART:20240310T100000
END:DAYLIGHT
BEGIN:STANDARD
TZOFFSETFROM:-0700
TZOFFSETTO:-0800
TZNAME:PST
DTSTART:20241103T090000
END:STANDARD
BEGIN:DAYLIGHT
TZOFFSETFROM:-0800
TZOFFSETTO:-0700
TZNAME:PDT
DTSTART:20250309T100000
END:DAYLIGHT
BEGIN:STANDARD
TZOFFSETFROM:-0700
TZOFFSETTO:-0800
TZNAME:PST
DTSTART:20251102T090000
END:STANDARD
BEGIN:DAYLIGHT
TZOFFSETFROM:-0800
TZOFFSETTO:-0700
TZNAME:PDT
DTSTART:20260308T100000
END:DAYLIGHT
BEGIN:STANDARD
TZOFFSETFROM:-0700
TZOFFSETTO:-0800
TZNAME:PST
DTSTART:20261101T090000
END:STANDARD
END:VTIMEZONE
BEGIN:VEVENT
DTSTART;TZID=America/Los_Angeles:20250518T100000
DTEND;TZID=America/Los_Angeles:20250518T110000
DTSTAMP:20260424T001921
CREATED:20250330T140550Z
LAST-MODIFIED:20250330T140619Z
UID:7822-1747562400-1747566000@www.sfvhbt.org
SUMMARY:Regular Service
DESCRIPTION:Hybrid service. Please contact the Temple for details.
URL:https://www.sfvhbt.org/event/regular-service-10/
CATEGORIES:Regular Service
END:VEVENT
BEGIN:VEVENT
DTSTART;TZID=America/Los_Angeles:20250525T100000
DTEND;TZID=America/Los_Angeles:20250525T110000
DTSTAMP:20260424T001921
CREATED:20250330T140702Z
LAST-MODIFIED:20250330T140702Z
UID:7825-1748167200-1748170800@www.sfvhbt.org
SUMMARY:Memorial Day Service
DESCRIPTION:Hybrid service. Please contact the Temple for details.
URL:https://www.sfvhbt.org/event/memorial-day-service/
LOCATION:San Fernando Valley Hongwanji Buddhist Temple\, 9450 Remick Ave.\, Pacoima\, CA\, 91331\, United States
CATEGORIES:Regular Service
END:VEVENT
END:VCALENDAR