BEGIN:VCALENDAR
VERSION:2.0
PRODID:-// - ECPv6.15.20//NONSGML v1.0//EN
CALSCALE:GREGORIAN
METHOD:PUBLISH
X-ORIGINAL-URL:https://www.sfvhbt.org
X-WR-CALDESC:Events for 
REFRESH-INTERVAL;VALUE=DURATION:PT1H
X-Robots-Tag:noindex
X-PUBLISHED-TTL:PT1H
BEGIN:VTIMEZONE
TZID:America/Los_Angeles
BEGIN:DAYLIGHT
TZOFFSETFROM:-0800
TZOFFSETTO:-0700
TZNAME:PDT
DTSTART:20250309T100000
END:DAYLIGHT
BEGIN:STANDARD
TZOFFSETFROM:-0700
TZOFFSETTO:-0800
TZNAME:PST
DTSTART:20251102T090000
END:STANDARD
BEGIN:DAYLIGHT
TZOFFSETFROM:-0800
TZOFFSETTO:-0700
TZNAME:PDT
DTSTART:20260308T100000
END:DAYLIGHT
BEGIN:STANDARD
TZOFFSETFROM:-0700
TZOFFSETTO:-0800
TZNAME:PST
DTSTART:20261101T090000
END:STANDARD
BEGIN:DAYLIGHT
TZOFFSETFROM:-0800
TZOFFSETTO:-0700
TZNAME:PDT
DTSTART:20270314T100000
END:DAYLIGHT
BEGIN:STANDARD
TZOFFSETFROM:-0700
TZOFFSETTO:-0800
TZNAME:PST
DTSTART:20271107T090000
END:STANDARD
END:VTIMEZONE
BEGIN:VEVENT
DTSTART;TZID=America/Los_Angeles:20260111T100000
DTEND;TZID=America/Los_Angeles:20260111T110000
DTSTAMP:20260423T125601
CREATED:20251129T064158Z
LAST-MODIFIED:20251130T000240Z
UID:8014-1768125600-1768129200@www.sfvhbt.org
SUMMARY:Regular Service
DESCRIPTION:Service is hybrid. Please contact main office for details.
URL:https://www.sfvhbt.org/event/regular-service-20/
CATEGORIES:Regular Service
END:VEVENT
BEGIN:VEVENT
DTSTART;TZID=America/Los_Angeles:20260125T100000
DTEND;TZID=America/Los_Angeles:20260125T170000
DTSTAMP:20260423T125601
CREATED:20251129T065508Z
LAST-MODIFIED:20251129T065508Z
UID:8018-1769335200-1769360400@www.sfvhbt.org
SUMMARY:Regular Service
DESCRIPTION:Hybrid service. Please contact front office for details.
URL:https://www.sfvhbt.org/event/regular-service-21/
CATEGORIES:Regular Service
END:VEVENT
END:VCALENDAR