BEGIN:VCALENDAR
VERSION:2.0
PRODID:-// - ECPv6.15.20//NONSGML v1.0//EN
CALSCALE:GREGORIAN
METHOD:PUBLISH
X-ORIGINAL-URL:https://www.sfvhbt.org
X-WR-CALDESC:Events for 
REFRESH-INTERVAL;VALUE=DURATION:PT1H
X-Robots-Tag:noindex
X-PUBLISHED-TTL:PT1H
BEGIN:VTIMEZONE
TZID:America/Los_Angeles
BEGIN:DAYLIGHT
TZOFFSETFROM:-0800
TZOFFSETTO:-0700
TZNAME:PDT
DTSTART:20250309T100000
END:DAYLIGHT
BEGIN:STANDARD
TZOFFSETFROM:-0700
TZOFFSETTO:-0800
TZNAME:PST
DTSTART:20251102T090000
END:STANDARD
BEGIN:DAYLIGHT
TZOFFSETFROM:-0800
TZOFFSETTO:-0700
TZNAME:PDT
DTSTART:20260308T100000
END:DAYLIGHT
BEGIN:STANDARD
TZOFFSETFROM:-0700
TZOFFSETTO:-0800
TZNAME:PST
DTSTART:20261101T090000
END:STANDARD
BEGIN:DAYLIGHT
TZOFFSETFROM:-0800
TZOFFSETTO:-0700
TZNAME:PDT
DTSTART:20270314T100000
END:DAYLIGHT
BEGIN:STANDARD
TZOFFSETFROM:-0700
TZOFFSETTO:-0800
TZNAME:PST
DTSTART:20271107T090000
END:STANDARD
END:VTIMEZONE
BEGIN:VEVENT
DTSTART;TZID=America/Los_Angeles:20260201T100000
DTEND;TZID=America/Los_Angeles:20260201T110000
DTSTAMP:20260423T112642
CREATED:20251129T065951Z
LAST-MODIFIED:20251129T065951Z
UID:8022-1769940000-1769943600@www.sfvhbt.org
SUMMARY:Nehan-e: Shakyamuni Buddha's Memorial Service
DESCRIPTION:Service is hybrid. Please contact front office for details.
URL:https://www.sfvhbt.org/event/nehan-e-shakyamuni-buddhas-memorial-service-2/
CATEGORIES:Regular Service
END:VEVENT
BEGIN:VEVENT
DTSTART;TZID=America/Los_Angeles:20260208T100000
DTEND;TZID=America/Los_Angeles:20260208T110000
DTSTAMP:20260423T112642
CREATED:20251129T070027Z
LAST-MODIFIED:20251129T070027Z
UID:8024-1770544800-1770548400@www.sfvhbt.org
SUMMARY:Regular Service
DESCRIPTION:Service is hybrid. Please contact front office for details.
URL:https://www.sfvhbt.org/event/regular-service-22/
CATEGORIES:Regular Service
END:VEVENT
BEGIN:VEVENT
DTSTART;TZID=America/Los_Angeles:20260222T100000
DTEND;TZID=America/Los_Angeles:20260222T110000
DTSTAMP:20260423T112642
CREATED:20251129T070137Z
LAST-MODIFIED:20251129T070137Z
UID:8028-1771754400-1771758000@www.sfvhbt.org
SUMMARY:Regular Service
DESCRIPTION:Hybrid service. Please contact the front office for details.
URL:https://www.sfvhbt.org/event/regular-service-23/
CATEGORIES:Regular Service
END:VEVENT
END:VCALENDAR