BEGIN:VCALENDAR
VERSION:2.0
PRODID:-// - ECPv6.15.20//NONSGML v1.0//EN
CALSCALE:GREGORIAN
METHOD:PUBLISH
X-ORIGINAL-URL:https://www.sfvhbt.org
X-WR-CALDESC:Events for 
REFRESH-INTERVAL;VALUE=DURATION:PT1H
X-Robots-Tag:noindex
X-PUBLISHED-TTL:PT1H
BEGIN:VTIMEZONE
TZID:America/Los_Angeles
BEGIN:DAYLIGHT
TZOFFSETFROM:-0800
TZOFFSETTO:-0700
TZNAME:PDT
DTSTART:20240310T100000
END:DAYLIGHT
BEGIN:STANDARD
TZOFFSETFROM:-0700
TZOFFSETTO:-0800
TZNAME:PST
DTSTART:20241103T090000
END:STANDARD
BEGIN:DAYLIGHT
TZOFFSETFROM:-0800
TZOFFSETTO:-0700
TZNAME:PDT
DTSTART:20250309T100000
END:DAYLIGHT
BEGIN:STANDARD
TZOFFSETFROM:-0700
TZOFFSETTO:-0800
TZNAME:PST
DTSTART:20251102T090000
END:STANDARD
BEGIN:DAYLIGHT
TZOFFSETFROM:-0800
TZOFFSETTO:-0700
TZNAME:PDT
DTSTART:20260308T100000
END:DAYLIGHT
BEGIN:STANDARD
TZOFFSETFROM:-0700
TZOFFSETTO:-0800
TZNAME:PST
DTSTART:20261101T090000
END:STANDARD
END:VTIMEZONE
BEGIN:VEVENT
DTSTART;TZID=America/Los_Angeles:20250426T183000
DTEND;TZID=America/Los_Angeles:20250426T213000
DTSTAMP:20260424T031907
CREATED:20250204T142149Z
LAST-MODIFIED:20250317T043348Z
UID:7474-1745692200-1745703000@www.sfvhbt.org
SUMMARY:Spring Fling & Social Dance
DESCRIPTION:Spring Fling & Social Dance\n\n \n\nWhen: Saturday\, April 26 from 6:30-9:30 p.m.\n\n \n\nWhere: SFVHBT – 9450 Remick Ave.\, Pacoima\, CA 91331\n\n \n\nAnother fun night of your favorite dance songs and hanging out with your friends. Appetizers and drinks will be available. Also\, there will be special surprise guest entertainers you won’t want to miss. For more information\, click here
URL:https://www.sfvhbt.org/event/spring-fling/
CATEGORIES:Special Event
END:VEVENT
END:VCALENDAR