BEGIN:VCALENDAR
VERSION:2.0
PRODID:-// - ECPv6.15.20//NONSGML v1.0//EN
CALSCALE:GREGORIAN
METHOD:PUBLISH
X-ORIGINAL-URL:https://www.sfvhbt.org
X-WR-CALDESC:Events for 
REFRESH-INTERVAL;VALUE=DURATION:PT1H
X-Robots-Tag:noindex
X-PUBLISHED-TTL:PT1H
BEGIN:VTIMEZONE
TZID:America/Los_Angeles
BEGIN:DAYLIGHT
TZOFFSETFROM:-0800
TZOFFSETTO:-0700
TZNAME:PDT
DTSTART:20240310T100000
END:DAYLIGHT
BEGIN:STANDARD
TZOFFSETFROM:-0700
TZOFFSETTO:-0800
TZNAME:PST
DTSTART:20241103T090000
END:STANDARD
BEGIN:DAYLIGHT
TZOFFSETFROM:-0800
TZOFFSETTO:-0700
TZNAME:PDT
DTSTART:20250309T100000
END:DAYLIGHT
BEGIN:STANDARD
TZOFFSETFROM:-0700
TZOFFSETTO:-0800
TZNAME:PST
DTSTART:20251102T090000
END:STANDARD
BEGIN:DAYLIGHT
TZOFFSETFROM:-0800
TZOFFSETTO:-0700
TZNAME:PDT
DTSTART:20260308T100000
END:DAYLIGHT
BEGIN:STANDARD
TZOFFSETFROM:-0700
TZOFFSETTO:-0800
TZNAME:PST
DTSTART:20261101T090000
END:STANDARD
END:VTIMEZONE
BEGIN:VEVENT
DTSTART;TZID=America/Los_Angeles:20250504T110000
DTEND;TZID=America/Los_Angeles:20250504T120000
DTSTAMP:20260424T020234
CREATED:20250204T142408Z
LAST-MODIFIED:20250317T043131Z
UID:7480-1746356400-1746360000@www.sfvhbt.org
SUMMARY:Spring Tea Party
DESCRIPTION:When: Sunday\, May 4th – After Service – 11 a.m.\n\n \n\nWhere: SFVHBT – 9450 Remick Ave.\, Pacoima\, CA 91331\n\n \n\nCost: $35/person – Please note that this event is limited to a max of 40 people\n\n \n\nFor more information\, click here
URL:https://www.sfvhbt.org/event/afternoon-tea/
CATEGORIES:Special Event
END:VEVENT
BEGIN:VEVENT
DTSTART;TZID=America/Los_Angeles:20250510T100000
DTEND;TZID=America/Los_Angeles:20250510T110000
DTSTAMP:20260424T020234
CREATED:20250204T142521Z
LAST-MODIFIED:20250317T043258Z
UID:7482-1746871200-1746874800@www.sfvhbt.org
SUMMARY:Gotan-e: Shinran Shonin's Birthday\, Mother's Day Celebration (Otoki following)
DESCRIPTION:Save the Date. Details coming soon.
URL:https://www.sfvhbt.org/event/gotan-e-shinran-shonins-birthday-tri-temple-seminar-mothers-day-celebration-otoki-following/
CATEGORIES:Otoki Lunch,Special Event,Special Service
END:VEVENT
BEGIN:VEVENT
DTSTART;VALUE=DATE:20250531
DTEND;VALUE=DATE:20250601
DTSTAMP:20260424T020234
CREATED:20250330T140740Z
LAST-MODIFIED:20250330T140740Z
UID:7827-1748649600-1748735999@www.sfvhbt.org
SUMMARY:Jr. YBA Seminar
DESCRIPTION:
URL:https://www.sfvhbt.org/event/jr-yba-seminar/
CATEGORIES:Special Event
END:VEVENT
END:VCALENDAR