BEGIN:VCALENDAR
VERSION:2.0
PRODID:-// - ECPv6.15.20//NONSGML v1.0//EN
CALSCALE:GREGORIAN
METHOD:PUBLISH
X-ORIGINAL-URL:https://www.sfvhbt.org
X-WR-CALDESC:Events for 
REFRESH-INTERVAL;VALUE=DURATION:PT1H
X-Robots-Tag:noindex
X-PUBLISHED-TTL:PT1H
BEGIN:VTIMEZONE
TZID:America/Los_Angeles
BEGIN:DAYLIGHT
TZOFFSETFROM:-0800
TZOFFSETTO:-0700
TZNAME:PDT
DTSTART:20250309T100000
END:DAYLIGHT
BEGIN:STANDARD
TZOFFSETFROM:-0700
TZOFFSETTO:-0800
TZNAME:PST
DTSTART:20251102T090000
END:STANDARD
BEGIN:DAYLIGHT
TZOFFSETFROM:-0800
TZOFFSETTO:-0700
TZNAME:PDT
DTSTART:20260308T100000
END:DAYLIGHT
BEGIN:STANDARD
TZOFFSETFROM:-0700
TZOFFSETTO:-0800
TZNAME:PST
DTSTART:20261101T090000
END:STANDARD
BEGIN:DAYLIGHT
TZOFFSETFROM:-0800
TZOFFSETTO:-0700
TZNAME:PDT
DTSTART:20270314T100000
END:DAYLIGHT
BEGIN:STANDARD
TZOFFSETFROM:-0700
TZOFFSETTO:-0800
TZNAME:PST
DTSTART:20271107T090000
END:STANDARD
END:VTIMEZONE
BEGIN:VEVENT
DTSTART;TZID=America/Los_Angeles:20260208T113000
DTEND;TZID=America/Los_Angeles:20260208T133000
DTSTAMP:20260423T125416
CREATED:20260120T233110Z
LAST-MODIFIED:20260120T233204Z
UID:8088-1770550200-1770557400@www.sfvhbt.org
SUMMARY:Kuni-san's Konbini Kitchen
DESCRIPTION:Ever wondered how those tasty\, everyday foods from Japan’s konbini (convenience stores like 7-Eleven and Lawson’s) are made? Kuni-San will show us how to recreate popular favorites right at home\, including egg sandwiches\, onigiri\, and sushi rolls. Yum! \nClick here for more information about this delicious event!
URL:https://www.sfvhbt.org/event/kuni-sans-konbini-kitchen/
LOCATION:SFVHBT Social Hall
CATEGORIES:Events,Special Event
END:VEVENT
END:VCALENDAR