BEGIN:VCALENDAR
VERSION:2.0
PRODID:-// - ECPv6.15.20//NONSGML v1.0//EN
CALSCALE:GREGORIAN
METHOD:PUBLISH
X-ORIGINAL-URL:https://www.sfvhbt.org
X-WR-CALDESC:Events for 
REFRESH-INTERVAL;VALUE=DURATION:PT1H
X-Robots-Tag:noindex
X-PUBLISHED-TTL:PT1H
BEGIN:VTIMEZONE
TZID:America/Los_Angeles
BEGIN:DAYLIGHT
TZOFFSETFROM:-0800
TZOFFSETTO:-0700
TZNAME:PDT
DTSTART:20210314T100000
END:DAYLIGHT
BEGIN:STANDARD
TZOFFSETFROM:-0700
TZOFFSETTO:-0800
TZNAME:PST
DTSTART:20211107T090000
END:STANDARD
BEGIN:DAYLIGHT
TZOFFSETFROM:-0800
TZOFFSETTO:-0700
TZNAME:PDT
DTSTART:20220313T100000
END:DAYLIGHT
BEGIN:STANDARD
TZOFFSETFROM:-0700
TZOFFSETTO:-0800
TZNAME:PST
DTSTART:20221106T090000
END:STANDARD
BEGIN:DAYLIGHT
TZOFFSETFROM:-0800
TZOFFSETTO:-0700
TZNAME:PDT
DTSTART:20230312T100000
END:DAYLIGHT
BEGIN:STANDARD
TZOFFSETFROM:-0700
TZOFFSETTO:-0800
TZNAME:PST
DTSTART:20231105T090000
END:STANDARD
END:VTIMEZONE
BEGIN:VEVENT
DTSTART;TZID=America/Los_Angeles:20221002T100000
DTEND;TZID=America/Los_Angeles:20221002T110000
DTSTAMP:20260425T211600
CREATED:20210912T032219Z
LAST-MODIFIED:20220730T221348Z
UID:6517-1664704800-1664708400@www.sfvhbt.org
SUMMARY:Shotsuki Monthly and Eshinni-ko / Kakushinni-ko memorial services (hybrid)*
DESCRIPTION:Service via Zoom or In-Person. Please contact us for details. \nSpecial Guest: \nRev. Jon Turner\nOrange County BC
URL:https://www.sfvhbt.org/event/regular-service-3-2-2-3-2-2-5-2-4-2-4-3-6-3-6-2-2-2-2-2-2-3-5/
END:VEVENT
BEGIN:VEVENT
DTSTART;TZID=America/Los_Angeles:20221002T100000
DTEND;TZID=America/Los_Angeles:20221002T110000
DTSTAMP:20260425T211600
CREATED:20210912T032219Z
LAST-MODIFIED:20220730T220926Z
UID:6519-1664704800-1664708400@www.sfvhbt.org
SUMMARY:Perpetual Drawing #3
DESCRIPTION:It’s not too late to purchase a ticket to support our temple\, especially in these difficult times. You will be eligible for the remaining quarterly drawings for $200 and the grand prize drawing worth $2\,500. \nContact the office for details
URL:https://www.sfvhbt.org/event/regular-service-3-2-2-3-2-2-5-2-4-2-4-3-6-3-6-2-2-2-2-2-2-3-4-2/
END:VEVENT
BEGIN:VEVENT
DTSTART;TZID=America/Los_Angeles:20221002T110000
DTEND;TZID=America/Los_Angeles:20221002T120000
DTSTAMP:20260425T211600
CREATED:20210912T032219Z
LAST-MODIFIED:20220930T055244Z
UID:6591-1664708400-1664712000@www.sfvhbt.org
SUMMARY:Afternoon Tea
DESCRIPTION:Afternoon tea in the Social Hall \n  \n  \n 
URL:https://www.sfvhbt.org/event/regular-service-3-2-2-3-2-2-5-2-4-2-4-3-6-3-6-2-2-2-2-2-2-3-4-4-2/
LOCATION:San Fernando Valley Hongwanji Buddhist Temple\, 9450 Remick Ave.\, Pacoima\, CA\, 91331\, United States
END:VEVENT
BEGIN:VEVENT
DTSTART;TZID=America/Los_Angeles:20221002T190000
DTEND;TZID=America/Los_Angeles:20221002T210000
DTSTAMP:20260425T211600
CREATED:20210912T032219Z
LAST-MODIFIED:20220730T221012Z
UID:6521-1664737200-1664744400@www.sfvhbt.org
SUMMARY:Virtual Tour of Uganda Fundraiser
DESCRIPTION:
URL:https://www.sfvhbt.org/event/regular-service-3-2-2-3-2-2-5-2-4-2-4-3-6-3-6-2-2-2-2-2-2-3-4-3/
END:VEVENT
BEGIN:VEVENT
DTSTART;TZID=America/Los_Angeles:20221009T100000
DTEND;TZID=America/Los_Angeles:20221009T110000
DTSTAMP:20260425T211600
CREATED:20210912T032219Z
LAST-MODIFIED:20220930T060403Z
UID:6596-1665309600-1665313200@www.sfvhbt.org
SUMMARY:Temple Cleanup (No Service)
DESCRIPTION:Lotus Toban (2) – Temple grounds – this includes weeding; and check the hedge in front of the temple grounds that runs along the sidewalk for litter. \nOrchid Toban (3) – Social hall (throw away or put away unused items)\, kitchen\, pantries\, refrigerators/freezer (throw away unmarked food); trophy room. \nWisteria Toban (4) – Classrooms\, storage rooms\, and storage containers. \nIf anyone finishes in their own area early\, please help in other areas. \nIf you would rather help in an area other than the assigned area\, that’s fine. \nThank you very much for participating!
URL:https://www.sfvhbt.org/event/regular-service-3-2-2-3-2-2-5-2-4-2-4-3-6-3-6-2-2-2-2-2-2-3-4-5/
END:VEVENT
BEGIN:VEVENT
DTSTART;TZID=America/Los_Angeles:20221016T100000
DTEND;TZID=America/Los_Angeles:20221016T110000
DTSTAMP:20260425T211600
CREATED:20210912T032219Z
LAST-MODIFIED:20220930T060608Z
UID:6599-1665914400-1665918000@www.sfvhbt.org
SUMMARY:Regular Service (Hybrid)*
DESCRIPTION:Contact the office for more information
URL:https://www.sfvhbt.org/event/regular-service-3-2-2-3-2-2-5-2-4-2-4-3-6-3-6-2-2-2-2-2-2-3-3-2/
END:VEVENT
BEGIN:VEVENT
DTSTART;TZID=America/Los_Angeles:20221023T100000
DTEND;TZID=America/Los_Angeles:20221023T110000
DTSTAMP:20260425T211600
CREATED:20210912T032219Z
LAST-MODIFIED:20220930T060638Z
UID:6602-1666519200-1666522800@www.sfvhbt.org
SUMMARY:Regular Service
DESCRIPTION:Service via Zoom. Please contact us for details.
URL:https://www.sfvhbt.org/event/regular-service-3-2-2-3-2-2-5-2-4-2-4-3-6-3-6-2-2-2-2-2-2-3-4-6/
END:VEVENT
BEGIN:VEVENT
DTSTART;TZID=America/Los_Angeles:20221028T123000
DTEND;TZID=America/Los_Angeles:20221028T133000
DTSTAMP:20260425T211600
CREATED:20210912T032219Z
LAST-MODIFIED:20220930T122622Z
UID:6604-1666960200-1666963800@www.sfvhbt.org
SUMMARY:Iyashi care presentation
DESCRIPTION:Join us to learn more about this innovative program\, a partnership between Keiro\nand Providence\, that offers community-based palliative care to the Japanese\nAmerican community in Los Angeles and Orange Counties. Using a whole-person\ncare approach\, the bilingual Iyashi Care team provides guidance and support to older\nadults with serious and chronic illnesses and their families\, as they pursue the best\nquality of life possible. \nNote: This will be held at San Fernando Japanese American Community Center \nRSVP is required\, and seats are limited. For any questions or to RSVP\, please\ncontact any of the following individuals. Registration closes 10/21. \nLiz Doomey: 818.429.4096 or email lizdoomey@yahoo.com \nEric Reardon 989.777.5526 or email gibbergeist@gmail.com
URL:https://www.sfvhbt.org/event/regular-service-3-2-2-3-2-2-5-2-4-2-4-3-6-3-6-2-2-2-2-2-2-3-4-6-2/
LOCATION:San Fernando Valley Japanese American Community Center\, 12953 Branford St.\, Pacoima\, CA\, 91331\, United States
END:VEVENT
BEGIN:VEVENT
DTSTART;TZID=America/Los_Angeles:20221029T190000
DTEND;TZID=America/Los_Angeles:20221029T210000
DTSTAMP:20260425T211600
CREATED:20210912T032219Z
LAST-MODIFIED:20221023T035735Z
UID:6607-1667070000-1667077200@www.sfvhbt.org
SUMMARY:Moonviewing and Haiku
DESCRIPTION:$20/person \nPlease contact the main office for details
URL:https://www.sfvhbt.org/event/regular-service-3-2-2-3-2-2-5-2-4-2-4-3-6-3-6-2-2-2-2-2-2-3-4-3-2-2/
END:VEVENT
BEGIN:VEVENT
DTSTART;TZID=America/Los_Angeles:20221030T100000
DTEND;TZID=America/Los_Angeles:20221030T110000
DTSTAMP:20260425T211600
CREATED:20210912T032219Z
LAST-MODIFIED:20220930T122901Z
UID:6609-1667124000-1667127600@www.sfvhbt.org
SUMMARY:Pet Memorial Service
DESCRIPTION:Service via Zoom. Please contact us for details. \nHas your beloved dog\, cat\, hamster\, or other pet passed away? If you wish to have your pet remembered during this memorial service \nPlease contact the office (sfvhbt@gmail.com or 818-899-4030) and provide your name\, your pet’s name\, and type of pet (for example: Sumi Smith\, Fluffy\, cat). Please feel free to email a photo of your pet(s) to share during service. Please provide the information and photos by Tuesday\, October 25.
URL:https://www.sfvhbt.org/event/regular-service-3-2-2-3-2-2-5-2-4-2-4-3-6-3-6-2-2-2-2-2-2-3-4-6-3/
END:VEVENT
END:VCALENDAR