BEGIN:VCALENDAR
VERSION:2.0
PRODID:-// - ECPv6.15.20//NONSGML v1.0//EN
CALSCALE:GREGORIAN
METHOD:PUBLISH
X-ORIGINAL-URL:https://www.sfvhbt.org
X-WR-CALDESC:Events for 
REFRESH-INTERVAL;VALUE=DURATION:PT1H
X-Robots-Tag:noindex
X-PUBLISHED-TTL:PT1H
BEGIN:VTIMEZONE
TZID:America/Los_Angeles
BEGIN:DAYLIGHT
TZOFFSETFROM:-0800
TZOFFSETTO:-0700
TZNAME:PDT
DTSTART:20210314T100000
END:DAYLIGHT
BEGIN:STANDARD
TZOFFSETFROM:-0700
TZOFFSETTO:-0800
TZNAME:PST
DTSTART:20211107T090000
END:STANDARD
BEGIN:DAYLIGHT
TZOFFSETFROM:-0800
TZOFFSETTO:-0700
TZNAME:PDT
DTSTART:20220313T100000
END:DAYLIGHT
BEGIN:STANDARD
TZOFFSETFROM:-0700
TZOFFSETTO:-0800
TZNAME:PST
DTSTART:20221106T090000
END:STANDARD
BEGIN:DAYLIGHT
TZOFFSETFROM:-0800
TZOFFSETTO:-0700
TZNAME:PDT
DTSTART:20230312T100000
END:DAYLIGHT
BEGIN:STANDARD
TZOFFSETFROM:-0700
TZOFFSETTO:-0800
TZNAME:PST
DTSTART:20231105T090000
END:STANDARD
END:VTIMEZONE
BEGIN:VEVENT
DTSTART;TZID=America/Los_Angeles:20221106T100000
DTEND;TZID=America/Los_Angeles:20221106T110000
DTSTAMP:20260425T193559
CREATED:20210912T032219Z
LAST-MODIFIED:20220930T123042Z
UID:6612-1667728800-1667732400@www.sfvhbt.org
SUMMARY:Shotsuki Monthly and Eitaikyo Ancestors’ perpetual memorial service (hybrid)*
DESCRIPTION:Service via Zoom and In-Person. Please contact us for details. \n  \nSpecial Guest Speaker: \nRev. Etsuko Mikame \nResident Minister \nSan Jose BC Betsuin
URL:https://www.sfvhbt.org/event/regular-service-3-2-2-3-2-2-5-2-4-2-4-3-6-3-6-2-2-2-2-2-2-3-4-6-4/
END:VEVENT
BEGIN:VEVENT
DTSTART;TZID=America/Los_Angeles:20221112T170000
DTEND;TZID=America/Los_Angeles:20221112T200000
DTSTAMP:20260425T193559
CREATED:20210912T032219Z
LAST-MODIFIED:20220920T050640Z
UID:6585-1668272400-1668283200@www.sfvhbt.org
SUMMARY:Dinner and Bingo Night
DESCRIPTION:Join us at SFVHBT social hall for some delicious food and fun!  Grab food to go or sit down and enjoy BINGO games afterwards. Get a chance to win great prizes! For more information\, click here  \n  \n  \n 
URL:https://www.sfvhbt.org/event/regular-service-3-2-2-3-2-2-5-2-4-2-4-3-6-3-6-2-2-2-2-2-2-3-4-4/
LOCATION:San Fernando Valley Hongwanji Buddhist Temple\, 9450 Remick Ave.\, Pacoima\, CA\, 91331\, United States
END:VEVENT
BEGIN:VEVENT
DTSTART;TZID=America/Los_Angeles:20221113T100000
DTEND;TZID=America/Los_Angeles:20221113T110000
DTSTAMP:20260425T193559
CREATED:20210912T032219Z
LAST-MODIFIED:20220930T123126Z
UID:6614-1668333600-1668337200@www.sfvhbt.org
SUMMARY:Regular Service
DESCRIPTION:Service via Zoom. Please contact us for details.
URL:https://www.sfvhbt.org/event/regular-service-3-2-2-3-2-2-5-2-4-2-4-3-6-3-6-2-2-2-2-2-2-3-4-6-5/
END:VEVENT
BEGIN:VEVENT
DTSTART;TZID=America/Los_Angeles:20221120T100000
DTEND;TZID=America/Los_Angeles:20221120T110000
DTSTAMP:20260425T193559
CREATED:20210912T032219Z
LAST-MODIFIED:20220930T123145Z
UID:6616-1668938400-1668942000@www.sfvhbt.org
SUMMARY:Regular Service
DESCRIPTION:Service via Zoom. Please contact us for details.
URL:https://www.sfvhbt.org/event/regular-service-3-2-2-3-2-2-5-2-4-2-4-3-6-3-6-2-2-2-2-2-2-3-4-6-5-2/
END:VEVENT
BEGIN:VEVENT
DTSTART;TZID=America/Los_Angeles:20221127T100000
DTEND;TZID=America/Los_Angeles:20221127T110000
DTSTAMP:20260425T193559
CREATED:20210912T032219Z
LAST-MODIFIED:20220930T123204Z
UID:6618-1669543200-1669546800@www.sfvhbt.org
SUMMARY:Regular Service
DESCRIPTION:Service via Zoom. Please contact us for details.
URL:https://www.sfvhbt.org/event/regular-service-3-2-2-3-2-2-5-2-4-2-4-3-6-3-6-2-2-2-2-2-2-3-4-6-5-2-2/
END:VEVENT
END:VCALENDAR