BEGIN:VCALENDAR
VERSION:2.0
PRODID:-// - ECPv6.15.20//NONSGML v1.0//EN
CALSCALE:GREGORIAN
METHOD:PUBLISH
X-ORIGINAL-URL:https://www.sfvhbt.org
X-WR-CALDESC:Events for 
REFRESH-INTERVAL;VALUE=DURATION:PT1H
X-Robots-Tag:noindex
X-PUBLISHED-TTL:PT1H
BEGIN:VTIMEZONE
TZID:America/Los_Angeles
BEGIN:DAYLIGHT
TZOFFSETFROM:-0800
TZOFFSETTO:-0700
TZNAME:PDT
DTSTART:20210314T100000
END:DAYLIGHT
BEGIN:STANDARD
TZOFFSETFROM:-0700
TZOFFSETTO:-0800
TZNAME:PST
DTSTART:20211107T090000
END:STANDARD
BEGIN:DAYLIGHT
TZOFFSETFROM:-0800
TZOFFSETTO:-0700
TZNAME:PDT
DTSTART:20220313T100000
END:DAYLIGHT
BEGIN:STANDARD
TZOFFSETFROM:-0700
TZOFFSETTO:-0800
TZNAME:PST
DTSTART:20221106T090000
END:STANDARD
BEGIN:DAYLIGHT
TZOFFSETFROM:-0800
TZOFFSETTO:-0700
TZNAME:PDT
DTSTART:20230312T100000
END:DAYLIGHT
BEGIN:STANDARD
TZOFFSETFROM:-0700
TZOFFSETTO:-0800
TZNAME:PST
DTSTART:20231105T090000
END:STANDARD
END:VTIMEZONE
BEGIN:VEVENT
DTSTART;TZID=America/Los_Angeles:20221204T100000
DTEND;TZID=America/Los_Angeles:20221204T110000
DTSTAMP:20260425T175708
CREATED:20210912T032219Z
LAST-MODIFIED:20220930T125701Z
UID:6631-1670148000-1670151600@www.sfvhbt.org
SUMMARY:Shotsuki Monthly Memorial and Bodhi Day Service (hybrid)*
DESCRIPTION:Service via Zoom and In-Person. Please contact us for details.
URL:https://www.sfvhbt.org/event/regular-service-3-2-2-3-2-2-5-2-4-2-4-3-6-3-6-2-2-2-2-2-2-3-4-6-4-2/
END:VEVENT
BEGIN:VEVENT
DTSTART;TZID=America/Los_Angeles:20221209T190000
DTEND;TZID=America/Los_Angeles:20221209T200000
DTSTAMP:20260425T175708
CREATED:20221127T060732Z
LAST-MODIFIED:20221127T060732Z
UID:6641-1670612400-1670616000@www.sfvhbt.org
SUMMARY:Zoom Holiday Karaoke
DESCRIPTION:All Welcome! Contact Joanne Tokeshi or Carolyn Sanwo to join in
URL:https://www.sfvhbt.org/event/zoom-holiday-karaoke/
END:VEVENT
BEGIN:VEVENT
DTSTART;TZID=America/Los_Angeles:20221211T100000
DTEND;TZID=America/Los_Angeles:20221211T110000
DTSTAMP:20260425T175708
CREATED:20210912T032219Z
LAST-MODIFIED:20221127T061333Z
UID:6620-1670752800-1670756400@www.sfvhbt.org
SUMMARY:Mochitsuki
DESCRIPTION:For the first time since 2019\, SFVHBT members will gather for MOCHITSUKI to prepare delicious\nmochi during one of our temple’s biggest traditional fundraisers. \nHard work mixes with loads of fun as our sangha pitches in while enjoying one another’s company. The\nevent arrives right at the peak of the December holiday season\, when community members look forward\nto purchasing our handmade mochi for their celebratory feasts. \nAll proceeds support our temple’s operating budget\, allowing us to hear and practice the dharma.\nBelow is a schedule of the many tasks we need to complete in order to ensure a successful event. Keep in\nmind that many hands make light work. We appreciate all the help we can get! \n***MARK YOUR CALENDARS*** \nDEC. 10 (SATURDAY) \n8AM – WASH RICE (waterproof footwear and long rubber gloves advised)\, cut and form an balls\, cover\nsteaming frames with muslin\, clean and prepare equipment \nDEC. 11 (SUNDAY) \n5AM – SET UP EQUIPMENT\n6AM – STEAM RICE\, ARRANGE AND COVER TABLES\n7AM – MOCHI PRODUCTION begins: COOL\, WEIGH\, PACKAGE\, LABEL\, SORT ORDERS\n11AM – 1PM – CUSTOMER ORDER PICK-UP AND SALES\, CLEANUP \n**Remember your aprons and hair coverings!** \n 
URL:https://www.sfvhbt.org/event/regular-service-3-2-2-3-2-2-5-2-4-2-4-3-6-3-6-2-2-2-2-2-2-3-4-6-5-2-3/
END:VEVENT
BEGIN:VEVENT
DTSTART;TZID=America/Los_Angeles:20221218T100000
DTEND;TZID=America/Los_Angeles:20221218T110000
DTSTAMP:20260425T175708
CREATED:20210912T032219Z
LAST-MODIFIED:20221125T190307Z
UID:6629-1671357600-1671361200@www.sfvhbt.org
SUMMARY:Hybrid Service
DESCRIPTION:Service via Zoom and In-Person. Please contact us for details.
URL:https://www.sfvhbt.org/event/regular-service-3-2-2-3-2-2-5-2-4-2-4-3-6-3-6-2-2-2-2-2-2-3-4-6-5-2-2-3/
END:VEVENT
BEGIN:VEVENT
DTSTART;TZID=America/Los_Angeles:20221225T100000
DTEND;TZID=America/Los_Angeles:20221225T110000
DTSTAMP:20260425T175708
CREATED:20210912T032219Z
LAST-MODIFIED:20221127T062135Z
UID:6646-1671962400-1671966000@www.sfvhbt.org
SUMMARY:No Service
DESCRIPTION:No Service
URL:https://www.sfvhbt.org/event/regular-service-3-2-2-3-2-2-5-2-4-2-4-3-6-3-6-2-2-2-2-2-2-3-4-6-5-2-2-2/
END:VEVENT
BEGIN:VEVENT
DTSTART;TZID=America/Los_Angeles:20221231T180000
DTEND;TZID=America/Los_Angeles:20221231T190000
DTSTAMP:20260425T175708
CREATED:20210912T032219Z
LAST-MODIFIED:20221127T062254Z
UID:6648-1672509600-1672513200@www.sfvhbt.org
SUMMARY:Joya-e: New Year's Eve Service (may be Zoom Only)*
DESCRIPTION:May be Zoom only. More details to follow.
URL:https://www.sfvhbt.org/event/regular-service-3-2-2-3-2-2-5-2-4-2-4-3-6-3-6-2-2-2-2-2-2-3-4-6-4-2-2/
END:VEVENT
END:VCALENDAR