BEGIN:VCALENDAR
VERSION:2.0
PRODID:-// - ECPv6.15.20//NONSGML v1.0//EN
CALSCALE:GREGORIAN
METHOD:PUBLISH
X-ORIGINAL-URL:https://www.sfvhbt.org
X-WR-CALDESC:Events for 
REFRESH-INTERVAL;VALUE=DURATION:PT1H
X-Robots-Tag:noindex
X-PUBLISHED-TTL:PT1H
BEGIN:VTIMEZONE
TZID:America/Los_Angeles
BEGIN:DAYLIGHT
TZOFFSETFROM:-0800
TZOFFSETTO:-0700
TZNAME:PDT
DTSTART:20220313T100000
END:DAYLIGHT
BEGIN:STANDARD
TZOFFSETFROM:-0700
TZOFFSETTO:-0800
TZNAME:PST
DTSTART:20221106T090000
END:STANDARD
BEGIN:DAYLIGHT
TZOFFSETFROM:-0800
TZOFFSETTO:-0700
TZNAME:PDT
DTSTART:20230312T100000
END:DAYLIGHT
BEGIN:STANDARD
TZOFFSETFROM:-0700
TZOFFSETTO:-0800
TZNAME:PST
DTSTART:20231105T090000
END:STANDARD
BEGIN:DAYLIGHT
TZOFFSETFROM:-0800
TZOFFSETTO:-0700
TZNAME:PDT
DTSTART:20240310T100000
END:DAYLIGHT
BEGIN:STANDARD
TZOFFSETFROM:-0700
TZOFFSETTO:-0800
TZNAME:PST
DTSTART:20241103T090000
END:STANDARD
END:VTIMEZONE
BEGIN:VEVENT
DTSTART;TZID=America/Los_Angeles:20230101T100000
DTEND;TZID=America/Los_Angeles:20230101T110000
DTSTAMP:20260425T161607
CREATED:20210912T032219Z
LAST-MODIFIED:20221127T062349Z
UID:6650-1672567200-1672570800@www.sfvhbt.org
SUMMARY:Shusho-e: New Year's Day Service (hybrid)*
DESCRIPTION:Service via Zoom and In-Person. Please contact us for details.
URL:https://www.sfvhbt.org/event/regular-service-3-2-2-3-2-2-5-2-4-2-4-3-6-3-6-2-2-2-2-2-2-3-4-6-4-2-3/
END:VEVENT
BEGIN:VEVENT
DTSTART;TZID=America/Los_Angeles:20230108T100000
DTEND;TZID=America/Los_Angeles:20230108T110000
DTSTAMP:20260425T161607
CREATED:20210912T032219Z
LAST-MODIFIED:20221127T062446Z
UID:6652-1673172000-1673175600@www.sfvhbt.org
SUMMARY:Shotsuki Monthly Memorial Service (hybrid)*
DESCRIPTION:Service via Zoom and In-Person. Please contact us for details.
URL:https://www.sfvhbt.org/event/regular-service-3-2-2-3-2-2-5-2-4-2-4-3-6-3-6-2-2-2-2-2-2-3-4-6-4-2-3-2/
END:VEVENT
BEGIN:VEVENT
DTSTART;TZID=America/Los_Angeles:20230115T100000
DTEND;TZID=America/Los_Angeles:20230115T110000
DTSTAMP:20260425T161607
CREATED:20210912T032219Z
LAST-MODIFIED:20221127T063410Z
UID:6654-1673776800-1673780400@www.sfvhbt.org
SUMMARY:Ho-onko: Shinran Shonin Memorial Service (hybrid)*
DESCRIPTION:Service via Zoom and In-Person. Please contact us for details. \nGuest Speaker: \nRev Kurt Rye \nEkoji Buddhist Temple \n  \nPotluck New Year Lunch (tentative)
URL:https://www.sfvhbt.org/event/regular-service-3-2-2-3-2-2-5-2-4-2-4-3-6-3-6-2-2-2-2-2-2-3-4-6-4-2-3-2-2/
END:VEVENT
BEGIN:VEVENT
DTSTART;TZID=America/Los_Angeles:20230122T100000
DTEND;TZID=America/Los_Angeles:20230122T110000
DTSTAMP:20260425T161607
CREATED:20210912T032219Z
LAST-MODIFIED:20221127T062622Z
UID:6656-1674381600-1674385200@www.sfvhbt.org
SUMMARY:Regular Service
DESCRIPTION:Service via Zoom. Please contact us for details.
URL:https://www.sfvhbt.org/event/regular-service-3-2-2-3-2-2-5-2-4-2-4-3-6-3-6-2-2-2-2-2-2-3-4-6-5-2-2-4/
END:VEVENT
BEGIN:VEVENT
DTSTART;TZID=America/Los_Angeles:20230129T100000
DTEND;TZID=America/Los_Angeles:20230129T110000
DTSTAMP:20260425T161607
CREATED:20210912T032219Z
LAST-MODIFIED:20221127T062649Z
UID:6658-1674986400-1674990000@www.sfvhbt.org
SUMMARY:Regular Service
DESCRIPTION:Service via Zoom. Please contact us for details.
URL:https://www.sfvhbt.org/event/regular-service-3-2-2-3-2-2-5-2-4-2-4-3-6-3-6-2-2-2-2-2-2-3-4-6-5-2-2-4-2/
END:VEVENT
END:VCALENDAR