BEGIN:VCALENDAR
VERSION:2.0
PRODID:-// - ECPv6.15.20//NONSGML v1.0//EN
CALSCALE:GREGORIAN
METHOD:PUBLISH
X-ORIGINAL-URL:https://www.sfvhbt.org
X-WR-CALDESC:Events for 
REFRESH-INTERVAL;VALUE=DURATION:PT1H
X-Robots-Tag:noindex
X-PUBLISHED-TTL:PT1H
BEGIN:VTIMEZONE
TZID:America/Los_Angeles
BEGIN:DAYLIGHT
TZOFFSETFROM:-0800
TZOFFSETTO:-0700
TZNAME:PDT
DTSTART:20220313T100000
END:DAYLIGHT
BEGIN:STANDARD
TZOFFSETFROM:-0700
TZOFFSETTO:-0800
TZNAME:PST
DTSTART:20221106T090000
END:STANDARD
BEGIN:DAYLIGHT
TZOFFSETFROM:-0800
TZOFFSETTO:-0700
TZNAME:PDT
DTSTART:20230312T100000
END:DAYLIGHT
BEGIN:STANDARD
TZOFFSETFROM:-0700
TZOFFSETTO:-0800
TZNAME:PST
DTSTART:20231105T090000
END:STANDARD
BEGIN:DAYLIGHT
TZOFFSETFROM:-0800
TZOFFSETTO:-0700
TZNAME:PDT
DTSTART:20240310T100000
END:DAYLIGHT
BEGIN:STANDARD
TZOFFSETFROM:-0700
TZOFFSETTO:-0800
TZNAME:PST
DTSTART:20241103T090000
END:STANDARD
END:VTIMEZONE
BEGIN:VEVENT
DTSTART;TZID=America/Los_Angeles:20230305T100000
DTEND;TZID=America/Los_Angeles:20230305T110000
DTSTAMP:20260425T131629
CREATED:20210912T032219Z
LAST-MODIFIED:20230203T164142Z
UID:6702-1678010400-1678014000@www.sfvhbt.org
SUMMARY:Shotsuki monthly memorial service (hybrid)
DESCRIPTION:Service via Zoom or In Person. Please contact us for details.
URL:https://www.sfvhbt.org/event/regular-service-3-2-2-3-2-2-5-2-4-2-4-3-6-3-6-2-2-2-2-2-2-3-4-6-5-2-2-4-2-2-3/
END:VEVENT
BEGIN:VEVENT
DTSTART;TZID=America/Los_Angeles:20230312T100000
DTEND;TZID=America/Los_Angeles:20230312T110000
DTSTAMP:20260425T131629
CREATED:20210912T032219Z
LAST-MODIFIED:20230305T185636Z
UID:6763-1678615200-1678618800@www.sfvhbt.org
SUMMARY:Spring Ohigan Service and Seminar (hybrid)
DESCRIPTION:Service via Zoom or In Person. Please contact us for details. \nSpecial Guest Speaker: \nRev. Dr. Daijaku Kinst \nProfessor Emeritus\, IBS
URL:https://www.sfvhbt.org/event/regular-service-3-2-2-3-2-2-5-2-4-2-4-3-6-3-6-2-2-2-2-2-2-3-4-6-5-2-2-4-2-2-3-2/
END:VEVENT
BEGIN:VEVENT
DTSTART;TZID=America/Los_Angeles:20230318T170000
DTEND;TZID=America/Los_Angeles:20230318T190000
DTSTAMP:20260425T131630
CREATED:20210912T032219Z
LAST-MODIFIED:20230203T164429Z
UID:6704-1679158800-1679166000@www.sfvhbt.org
SUMMARY:Chili Cook-off & Bingo
DESCRIPTION:Cost: \nChili w/4 games ( 4 cards ) of Bingo – $30/ person \nChili tasting only – $15/ person \nAdditional Bingo cards – $20 / 4 cards \n  \nCome join us for a fun-filled evening at SFVHBT. Enjoy the delicious chili cookoff entries and vote for your favorite one. Four games of BINGO will be played afterwards. Get a chance of winning fun prizes and gift cards! \nYou can pre order below or pay on site \nPre-order link : \nbit.ly/sfvhbtchilibingo
URL:https://www.sfvhbt.org/event/regular-service-3-2-2-3-2-2-5-2-4-2-4-3-6-3-6-2-2-2-2-2-2-3-4-6-5-2-2-4-2-2-2-2/
END:VEVENT
BEGIN:VEVENT
DTSTART;TZID=America/Los_Angeles:20230319T100000
DTEND;TZID=America/Los_Angeles:20230319T110000
DTSTAMP:20260425T131630
CREATED:20210912T032219Z
LAST-MODIFIED:20230203T164508Z
UID:6707-1679220000-1679223600@www.sfvhbt.org
SUMMARY:Regular Service
DESCRIPTION:Service via Zoom. Please contact us for details.
URL:https://www.sfvhbt.org/event/regular-service-3-2-2-3-2-2-5-2-4-2-4-3-6-3-6-2-2-2-2-2-2-3-4-6-5-2-2-4-2-3/
END:VEVENT
BEGIN:VEVENT
DTSTART;TZID=America/Los_Angeles:20230326T100000
DTEND;TZID=America/Los_Angeles:20230326T110000
DTSTAMP:20260425T131630
CREATED:20210912T032219Z
LAST-MODIFIED:20230203T164648Z
UID:6711-1679824800-1679828400@www.sfvhbt.org
SUMMARY:Regular Service
DESCRIPTION:Service via Zoom. Please contact us for details.
URL:https://www.sfvhbt.org/event/regular-service-3-2-2-3-2-2-5-2-4-2-4-3-6-3-6-2-2-2-2-2-2-3-4-6-5-2-2-4-2-3-3/
END:VEVENT
END:VCALENDAR