BEGIN:VCALENDAR
VERSION:2.0
PRODID:-// - ECPv6.15.20//NONSGML v1.0//EN
CALSCALE:GREGORIAN
METHOD:PUBLISH
X-ORIGINAL-URL:https://www.sfvhbt.org
X-WR-CALDESC:Events for 
REFRESH-INTERVAL;VALUE=DURATION:PT1H
X-Robots-Tag:noindex
X-PUBLISHED-TTL:PT1H
BEGIN:VTIMEZONE
TZID:America/Los_Angeles
BEGIN:DAYLIGHT
TZOFFSETFROM:-0800
TZOFFSETTO:-0700
TZNAME:PDT
DTSTART:20220313T100000
END:DAYLIGHT
BEGIN:STANDARD
TZOFFSETFROM:-0700
TZOFFSETTO:-0800
TZNAME:PST
DTSTART:20221106T090000
END:STANDARD
BEGIN:DAYLIGHT
TZOFFSETFROM:-0800
TZOFFSETTO:-0700
TZNAME:PDT
DTSTART:20230312T100000
END:DAYLIGHT
BEGIN:STANDARD
TZOFFSETFROM:-0700
TZOFFSETTO:-0800
TZNAME:PST
DTSTART:20231105T090000
END:STANDARD
BEGIN:DAYLIGHT
TZOFFSETFROM:-0800
TZOFFSETTO:-0700
TZNAME:PDT
DTSTART:20240310T100000
END:DAYLIGHT
BEGIN:STANDARD
TZOFFSETFROM:-0700
TZOFFSETTO:-0800
TZNAME:PST
DTSTART:20241103T090000
END:STANDARD
END:VTIMEZONE
BEGIN:VEVENT
DTSTART;TZID=America/Los_Angeles:20230402T100000
DTEND;TZID=America/Los_Angeles:20230402T110000
DTSTAMP:20260425T114943
CREATED:20210912T032219Z
LAST-MODIFIED:20230203T164624Z
UID:6709-1680429600-1680433200@www.sfvhbt.org
SUMMARY:Shotsuki and Hanamatsuri Service (hybrid)
DESCRIPTION:Service via Zoom and In Person. \nInfant Presentation Ceremony (If interested\, please contact the office.) \n10 am\, Sunday\, April 2 \n  \nRev. Dr. Kenji Akahoshi \nBCA Minister Emeritus \n 
URL:https://www.sfvhbt.org/event/regular-service-3-2-2-3-2-2-5-2-4-2-4-3-6-3-6-2-2-2-2-2-2-3-4-6-5-2-2-4-2-3-2/
END:VEVENT
BEGIN:VEVENT
DTSTART;TZID=America/Los_Angeles:20230409T100000
DTEND;TZID=America/Los_Angeles:20230409T110000
DTSTAMP:20260425T114943
CREATED:20210912T032219Z
LAST-MODIFIED:20230420T061121Z
UID:6713-1681034400-1681038000@www.sfvhbt.org
SUMMARY:Regular Service (Zoom Only)
DESCRIPTION:Service via Zoom. Please contact us for details.
URL:https://www.sfvhbt.org/event/regular-service-3-2-2-3-2-2-5-2-4-2-4-3-6-3-6-2-2-2-2-2-2-3-4-6-5-2-2-4-2-3-3-2/
END:VEVENT
BEGIN:VEVENT
DTSTART;TZID=America/Los_Angeles:20230415T170000
DTEND;TZID=America/Los_Angeles:20230415T190000
DTSTAMP:20260425T114943
CREATED:20210912T032219Z
LAST-MODIFIED:20230203T164924Z
UID:6721-1681578000-1681585200@www.sfvhbt.org
SUMMARY:In-Person Silent Auction Social and Dance/Spring Fling
DESCRIPTION:($15/person). Information regard­ing additional tickets and details for the fun event will follow.
URL:https://www.sfvhbt.org/event/regular-service-3-2-2-3-2-2-5-2-4-2-4-3-6-3-6-2-2-2-2-2-2-3-4-6-5-2-2-4-2-3-3-2-2-2-3/
END:VEVENT
BEGIN:VEVENT
DTSTART;TZID=America/Los_Angeles:20230416T100000
DTEND;TZID=America/Los_Angeles:20230416T110000
DTSTAMP:20260425T114943
CREATED:20210912T032219Z
LAST-MODIFIED:20230420T061157Z
UID:6715-1681639200-1681642800@www.sfvhbt.org
SUMMARY:Regular Service (Hybrid)
DESCRIPTION:In-Person and via Zoom Please contact us for details.
URL:https://www.sfvhbt.org/event/regular-service-3-2-2-3-2-2-5-2-4-2-4-3-6-3-6-2-2-2-2-2-2-3-4-6-5-2-2-4-2-3-3-2-2/
END:VEVENT
BEGIN:VEVENT
DTSTART;TZID=America/Los_Angeles:20230423T100000
DTEND;TZID=America/Los_Angeles:20230423T110000
DTSTAMP:20260425T114943
CREATED:20210912T032219Z
LAST-MODIFIED:20230420T061237Z
UID:6717-1682244000-1682247600@www.sfvhbt.org
SUMMARY:Regular Service (Zoom Only)
DESCRIPTION:Zoom Only. Please contact us for details.
URL:https://www.sfvhbt.org/event/regular-service-3-2-2-3-2-2-5-2-4-2-4-3-6-3-6-2-2-2-2-2-2-3-4-6-5-2-2-4-2-3-3-2-2-2/
END:VEVENT
BEGIN:VEVENT
DTSTART;TZID=America/Los_Angeles:20230430T100000
DTEND;TZID=America/Los_Angeles:20230430T110000
DTSTAMP:20260425T114943
CREATED:20210912T032219Z
LAST-MODIFIED:20230420T060134Z
UID:6719-1682848800-1682852400@www.sfvhbt.org
SUMMARY:No Service
DESCRIPTION:No service this week
URL:https://www.sfvhbt.org/event/regular-service-3-2-2-3-2-2-5-2-4-2-4-3-6-3-6-2-2-2-2-2-2-3-4-6-5-2-2-4-2-3-3-2-2-2-2/
END:VEVENT
END:VCALENDAR