BEGIN:VCALENDAR
VERSION:2.0
PRODID:-// - ECPv6.15.20//NONSGML v1.0//EN
CALSCALE:GREGORIAN
METHOD:PUBLISH
X-ORIGINAL-URL:https://www.sfvhbt.org
X-WR-CALDESC:Events for 
REFRESH-INTERVAL;VALUE=DURATION:PT1H
X-Robots-Tag:noindex
X-PUBLISHED-TTL:PT1H
BEGIN:VTIMEZONE
TZID:America/Los_Angeles
BEGIN:DAYLIGHT
TZOFFSETFROM:-0800
TZOFFSETTO:-0700
TZNAME:PDT
DTSTART:20220313T100000
END:DAYLIGHT
BEGIN:STANDARD
TZOFFSETFROM:-0700
TZOFFSETTO:-0800
TZNAME:PST
DTSTART:20221106T090000
END:STANDARD
BEGIN:DAYLIGHT
TZOFFSETFROM:-0800
TZOFFSETTO:-0700
TZNAME:PDT
DTSTART:20230312T100000
END:DAYLIGHT
BEGIN:STANDARD
TZOFFSETFROM:-0700
TZOFFSETTO:-0800
TZNAME:PST
DTSTART:20231105T090000
END:STANDARD
BEGIN:DAYLIGHT
TZOFFSETFROM:-0800
TZOFFSETTO:-0700
TZNAME:PDT
DTSTART:20240310T100000
END:DAYLIGHT
BEGIN:STANDARD
TZOFFSETFROM:-0700
TZOFFSETTO:-0800
TZNAME:PST
DTSTART:20241103T090000
END:STANDARD
END:VTIMEZONE
BEGIN:VEVENT
DTSTART;TZID=America/Los_Angeles:20230507T110000
DTEND;TZID=America/Los_Angeles:20230507T120000
DTSTAMP:20260425T100853
CREATED:20210912T032219Z
LAST-MODIFIED:20230309T014527Z
UID:6780-1683457200-1683460800@www.sfvhbt.org
SUMMARY:May Tea Party
DESCRIPTION:SFVHBT will be hosting a wonderful May Tea Party. \nThe event will be on Sunday\, May 7th\, after service. Come join us for a delicious luncheon that includes :  scones\, hot herbal teas\, delicious sandwiches\, salads and desserts and more.  Please note that seating is limited to 40 people.  Please see the attached flyer for all the details and cost.  This is a great way to treat mom or someone special on the upcoming Mother’s Day.  Looking forward to this special event. \nReservations can be made by filling out the online Google Form  at   http://bit.ly/3EYIHK2 \nCost is $35/person. Please note that this event is limited to a max of 40 people.
URL:https://www.sfvhbt.org/event/regular-service-3-2-2-3-2-2-5-2-4-2-4-3-6-3-6-2-2-2-2-2-2-3-4-6-5-2-2-4-2-3-3-2-2-2-2-2/
END:VEVENT
BEGIN:VEVENT
DTSTART;TZID=America/Los_Angeles:20230514T100000
DTEND;TZID=America/Los_Angeles:20230514T110000
DTSTAMP:20260425T100853
CREATED:20210912T032219Z
LAST-MODIFIED:20230420T060804Z
UID:6799-1684058400-1684062000@www.sfvhbt.org
SUMMARY:Gotan-e: Shinran Shonin’s birthday and Mother’s Day Service (hybrid)
DESCRIPTION:Service via Zoom and In Person. \nRev. Hibiki Murakami \nResident Minister\, LA Betsuin \n  \n 
URL:https://www.sfvhbt.org/event/regular-service-3-2-2-3-2-2-5-2-4-2-4-3-6-3-6-2-2-2-2-2-2-3-4-6-5-2-2-4-2-3-2-2/
END:VEVENT
BEGIN:VEVENT
DTSTART;TZID=America/Los_Angeles:20230521T100000
DTEND;TZID=America/Los_Angeles:20230521T110000
DTSTAMP:20260425T100853
CREATED:20210912T032219Z
LAST-MODIFIED:20230420T061308Z
UID:6801-1684663200-1684666800@www.sfvhbt.org
SUMMARY:Regular Service (Zoom Only)
DESCRIPTION:Zoom Only. Please contact us for details.
URL:https://www.sfvhbt.org/event/regular-service-3-2-2-3-2-2-5-2-4-2-4-3-6-3-6-2-2-2-2-2-2-3-4-6-5-2-2-4-2-3-3-2-2-2-4/
END:VEVENT
BEGIN:VEVENT
DTSTART;TZID=America/Los_Angeles:20230528T100000
DTEND;TZID=America/Los_Angeles:20230528T110000
DTSTAMP:20260425T100853
CREATED:20210912T032219Z
LAST-MODIFIED:20230420T060940Z
UID:6803-1685268000-1685271600@www.sfvhbt.org
SUMMARY:Memorial Day Service (Zoom Only)
DESCRIPTION:Please contact us for details.
URL:https://www.sfvhbt.org/event/regular-service-3-2-2-3-2-2-5-2-4-2-4-3-6-3-6-2-2-2-2-2-2-3-4-6-5-2-2-4-2-3-3-2-2-2-4-2/
END:VEVENT
END:VCALENDAR