BEGIN:VCALENDAR
VERSION:2.0
PRODID:-// - ECPv6.15.20//NONSGML v1.0//EN
CALSCALE:GREGORIAN
METHOD:PUBLISH
X-ORIGINAL-URL:https://www.sfvhbt.org
X-WR-CALDESC:Events for 
REFRESH-INTERVAL;VALUE=DURATION:PT1H
X-Robots-Tag:noindex
X-PUBLISHED-TTL:PT1H
BEGIN:VTIMEZONE
TZID:America/Los_Angeles
BEGIN:DAYLIGHT
TZOFFSETFROM:-0800
TZOFFSETTO:-0700
TZNAME:PDT
DTSTART:20220313T100000
END:DAYLIGHT
BEGIN:STANDARD
TZOFFSETFROM:-0700
TZOFFSETTO:-0800
TZNAME:PST
DTSTART:20221106T090000
END:STANDARD
BEGIN:DAYLIGHT
TZOFFSETFROM:-0800
TZOFFSETTO:-0700
TZNAME:PDT
DTSTART:20230312T100000
END:DAYLIGHT
BEGIN:STANDARD
TZOFFSETFROM:-0700
TZOFFSETTO:-0800
TZNAME:PST
DTSTART:20231105T090000
END:STANDARD
BEGIN:DAYLIGHT
TZOFFSETFROM:-0800
TZOFFSETTO:-0700
TZNAME:PDT
DTSTART:20240310T100000
END:DAYLIGHT
BEGIN:STANDARD
TZOFFSETFROM:-0700
TZOFFSETTO:-0800
TZNAME:PST
DTSTART:20241103T090000
END:STANDARD
END:VTIMEZONE
BEGIN:VEVENT
DTSTART;TZID=America/Los_Angeles:20230604T100000
DTEND;TZID=America/Los_Angeles:20230604T110000
DTSTAMP:20260425T083408
CREATED:20210912T032219Z
LAST-MODIFIED:20230420T061025Z
UID:6805-1685872800-1685876400@www.sfvhbt.org
SUMMARY:Shotsuki monthly memorial service (hybrid)
DESCRIPTION:Service via Zoom and In Person. \n  \n 
URL:https://www.sfvhbt.org/event/regular-service-3-2-2-3-2-2-5-2-4-2-4-3-6-3-6-2-2-2-2-2-2-3-4-6-5-2-2-4-2-3-2-2-2/
END:VEVENT
BEGIN:VEVENT
DTSTART;TZID=America/Los_Angeles:20230611T100000
DTEND;TZID=America/Los_Angeles:20230611T110000
DTSTAMP:20260425T083408
CREATED:20210912T032219Z
LAST-MODIFIED:20230603T214916Z
UID:6811-1686477600-1686481200@www.sfvhbt.org
SUMMARY:Regular Service and Book Club (Zoom Only)
DESCRIPTION:Zoom Only. Please contact us for details.
URL:https://www.sfvhbt.org/event/regular-service-3-2-2-3-2-2-5-2-4-2-4-3-6-3-6-2-2-2-2-2-2-3-4-6-5-2-2-4-2-3-3-2-2-2-4-3/
END:VEVENT
BEGIN:VEVENT
DTSTART;TZID=America/Los_Angeles:20230618T100000
DTEND;TZID=America/Los_Angeles:20230618T110000
DTSTAMP:20260425T083408
CREATED:20210912T032219Z
LAST-MODIFIED:20230603T215823Z
UID:6839-1687082400-1687086000@www.sfvhbt.org
SUMMARY:Father’s Day and Graduation Service  (hybrid)
DESCRIPTION:Service via Zoom and In Person. \n  \n 
URL:https://www.sfvhbt.org/event/regular-service-3-2-2-3-2-2-5-2-4-2-4-3-6-3-6-2-2-2-2-2-2-3-4-6-5-2-2-4-2-3-2-2-2-3/
END:VEVENT
BEGIN:VEVENT
DTSTART;VALUE=DATE:20230624
DTEND;VALUE=DATE:20230626
DTSTAMP:20260425T083408
CREATED:20221127T063045Z
LAST-MODIFIED:20221127T063045Z
UID:6670-1687564800-1687737599@www.sfvhbt.org
SUMMARY:2023 Obon
DESCRIPTION:Save the Dates – More Details to Follow
URL:https://www.sfvhbt.org/event/2023-obon/
END:VEVENT
END:VCALENDAR