BEGIN:VCALENDAR
VERSION:2.0
PRODID:-// - ECPv6.15.20//NONSGML v1.0//EN
CALSCALE:GREGORIAN
METHOD:PUBLISH
X-ORIGINAL-URL:https://www.sfvhbt.org
X-WR-CALDESC:Events for 
REFRESH-INTERVAL;VALUE=DURATION:PT1H
X-Robots-Tag:noindex
X-PUBLISHED-TTL:PT1H
BEGIN:VTIMEZONE
TZID:America/Los_Angeles
BEGIN:DAYLIGHT
TZOFFSETFROM:-0800
TZOFFSETTO:-0700
TZNAME:PDT
DTSTART:20220313T100000
END:DAYLIGHT
BEGIN:STANDARD
TZOFFSETFROM:-0700
TZOFFSETTO:-0800
TZNAME:PST
DTSTART:20221106T090000
END:STANDARD
BEGIN:DAYLIGHT
TZOFFSETFROM:-0800
TZOFFSETTO:-0700
TZNAME:PDT
DTSTART:20230312T100000
END:DAYLIGHT
BEGIN:STANDARD
TZOFFSETFROM:-0700
TZOFFSETTO:-0800
TZNAME:PST
DTSTART:20231105T090000
END:STANDARD
BEGIN:DAYLIGHT
TZOFFSETFROM:-0800
TZOFFSETTO:-0700
TZNAME:PDT
DTSTART:20240310T100000
END:DAYLIGHT
BEGIN:STANDARD
TZOFFSETFROM:-0700
TZOFFSETTO:-0800
TZNAME:PST
DTSTART:20241103T090000
END:STANDARD
END:VTIMEZONE
BEGIN:VEVENT
DTSTART;TZID=America/Los_Angeles:20230910T100000
DTEND;TZID=America/Los_Angeles:20230910T110000
DTSTAMP:20260425T041041
CREATED:20210912T032219Z
LAST-MODIFIED:20230907T195344Z
UID:6858-1694340000-1694343600@www.sfvhbt.org
SUMMARY:Shotsuki monthly memorial service (hybrid)
DESCRIPTION:Service to be Hybrid. Please contact the Temple for details.
URL:https://www.sfvhbt.org/event/regular-service-3-2-2-3-2-2-5-2-4-2-4-3-6-3-6-2-2-2-2-2-2-3-4-6-5-2-2-4-2-3-3-2-2-2-4-4-3-2-2-2-2-2/
END:VEVENT
BEGIN:VEVENT
DTSTART;TZID=America/Los_Angeles:20230910T110000
DTEND;TZID=America/Los_Angeles:20230910T113000
DTSTAMP:20260425T041041
CREATED:20210912T032219Z
LAST-MODIFIED:20230907T200156Z
UID:6873-1694343600-1694345400@www.sfvhbt.org
SUMMARY:Frozen Treat Fun (After Service)
DESCRIPTION:Join us in the social hall right after service for sweet frozen treat compliments from the Junior Y.  Hang out with us and get the “scoop” from our Sangha friends!
URL:https://www.sfvhbt.org/event/regular-service-3-2-2-3-2-2-5-2-4-2-4-3-6-3-6-2-2-2-2-2-2-3-4-6-5-2-2-4-2-3-3-2-2-2-4-4-3-2-2-2-2-2-3/
END:VEVENT
BEGIN:VEVENT
DTSTART;TZID=America/Los_Angeles:20230917T100000
DTEND;TZID=America/Los_Angeles:20230917T110000
DTSTAMP:20260425T041041
CREATED:20210912T032219Z
LAST-MODIFIED:20230907T195451Z
UID:6863-1694944800-1694948400@www.sfvhbt.org
SUMMARY:Regular Service (Zoom Only)
DESCRIPTION:Zoom Only. Please contact us for details.
URL:https://www.sfvhbt.org/event/regular-service-3-2-2-3-2-2-5-2-4-2-4-3-6-3-6-2-2-2-2-2-2-3-4-6-5-2-2-4-2-3-3-2-2-2-4-3-2/
END:VEVENT
BEGIN:VEVENT
DTSTART;TZID=America/Los_Angeles:20230924T100000
DTEND;TZID=America/Los_Angeles:20230924T110000
DTSTAMP:20260425T041041
CREATED:20210912T032219Z
LAST-MODIFIED:20230907T195839Z
UID:6865-1695549600-1695553200@www.sfvhbt.org
SUMMARY:Fall Ohigan Service and Seminar (hybrid)
DESCRIPTION:Guest Minister Rev. Blayne Higa \nService to be Hybrid. Please contact the Temple for details.
URL:https://www.sfvhbt.org/event/regular-service-3-2-2-3-2-2-5-2-4-2-4-3-6-3-6-2-2-2-2-2-2-3-4-6-5-2-2-4-2-3-3-2-2-2-4-4-3-2-2-2-2-2-2/
END:VEVENT
END:VCALENDAR