BEGIN:VCALENDAR
VERSION:2.0
PRODID:-// - ECPv6.15.20//NONSGML v1.0//EN
CALSCALE:GREGORIAN
METHOD:PUBLISH
X-ORIGINAL-URL:https://www.sfvhbt.org
X-WR-CALDESC:Events for 
REFRESH-INTERVAL;VALUE=DURATION:PT1H
X-Robots-Tag:noindex
X-PUBLISHED-TTL:PT1H
BEGIN:VTIMEZONE
TZID:America/Los_Angeles
BEGIN:DAYLIGHT
TZOFFSETFROM:-0800
TZOFFSETTO:-0700
TZNAME:PDT
DTSTART:20230312T100000
END:DAYLIGHT
BEGIN:STANDARD
TZOFFSETFROM:-0700
TZOFFSETTO:-0800
TZNAME:PST
DTSTART:20231105T090000
END:STANDARD
BEGIN:DAYLIGHT
TZOFFSETFROM:-0800
TZOFFSETTO:-0700
TZNAME:PDT
DTSTART:20240310T100000
END:DAYLIGHT
BEGIN:STANDARD
TZOFFSETFROM:-0700
TZOFFSETTO:-0800
TZNAME:PST
DTSTART:20241103T090000
END:STANDARD
BEGIN:DAYLIGHT
TZOFFSETFROM:-0800
TZOFFSETTO:-0700
TZNAME:PDT
DTSTART:20250309T100000
END:DAYLIGHT
BEGIN:STANDARD
TZOFFSETFROM:-0700
TZOFFSETTO:-0800
TZNAME:PST
DTSTART:20251102T090000
END:STANDARD
END:VTIMEZONE
BEGIN:VEVENT
DTSTART;TZID=America/Los_Angeles:20240204T100000
DTEND;TZID=America/Los_Angeles:20240204T110000
DTSTAMP:20260424T202759
CREATED:20210912T032219Z
LAST-MODIFIED:20240205T064800Z
UID:6991-1707040800-1707044400@www.sfvhbt.org
SUMMARY:Shotsuki monthly memorial service
DESCRIPTION:Hybrid service Please contact us for details.
URL:https://www.sfvhbt.org/event/regular-service-3-2-2-3-2-2-5-2-4-2-4-3-6-3-6-2-2-2-2-2-2-3-4-6-5-2-2-4-2-3-3-2-2-2-4-3-2-2-2-3-3-3/
END:VEVENT
BEGIN:VEVENT
DTSTART;TZID=America/Los_Angeles:20240211T100000
DTEND;TZID=America/Los_Angeles:20240211T110000
DTSTAMP:20260424T202759
CREATED:20210912T032219Z
LAST-MODIFIED:20240205T064829Z
UID:6993-1707645600-1707649200@www.sfvhbt.org
SUMMARY:Nehan-e: Shakyamuni Buddha’s Memorial Service
DESCRIPTION:Hybrid service Please contact us for details.
URL:https://www.sfvhbt.org/event/regular-service-3-2-2-3-2-2-5-2-4-2-4-3-6-3-6-2-2-2-2-2-2-3-4-6-5-2-2-4-2-3-3-2-2-2-4-3-2-2-2-3-3-3-2/
END:VEVENT
BEGIN:VEVENT
DTSTART;TZID=America/Los_Angeles:20240211T110000
DTEND;TZID=America/Los_Angeles:20240211T123000
DTSTAMP:20260424T202759
CREATED:20210912T032219Z
LAST-MODIFIED:20240205T065016Z
UID:6995-1707649200-1707654600@www.sfvhbt.org
SUMMARY:DME Shibori Indigo Dyeing
DESCRIPTION:Please see here to signup and for more details on the event
URL:https://www.sfvhbt.org/event/regular-service-3-2-2-3-2-2-5-2-4-2-4-3-6-3-6-2-2-2-2-2-2-3-4-6-5-2-2-4-2-3-3-2-2-2-4-3-2-2-2-3-3-3-2-2/
END:VEVENT
BEGIN:VEVENT
DTSTART;TZID=America/Los_Angeles:20240218T110000
DTEND;TZID=America/Los_Angeles:20240218T123000
DTSTAMP:20260424T202759
CREATED:20210912T032219Z
LAST-MODIFIED:20240205T071007Z
UID:7000-1708254000-1708259400@www.sfvhbt.org
SUMMARY:DME Line Dancing
DESCRIPTION:Please see here to signup and for more details on the event
URL:https://www.sfvhbt.org/event/regular-service-3-2-2-3-2-2-5-2-4-2-4-3-6-3-6-2-2-2-2-2-2-3-4-6-5-2-2-4-2-3-3-2-2-2-4-3-2-2-2-3-3-3-2-2-2/
END:VEVENT
BEGIN:VEVENT
DTSTART;TZID=America/Los_Angeles:20240225T100000
DTEND;TZID=America/Los_Angeles:20240225T110000
DTSTAMP:20260424T202759
CREATED:20210912T032219Z
LAST-MODIFIED:20240205T065314Z
UID:6998-1708855200-1708858800@www.sfvhbt.org
SUMMARY:Temple clean-up (no service)
DESCRIPTION:Lotus Toban (2) – Temple grounds – this includes weeding; and check the\nhedge in front of the temple grounds that runs along the sidewalk for litter. \nOrchid Toban (3) – Social hall (throw away or put away unused items)\,\nkitchen\, pantries\, refrigerators/freezer (throw away unmarked food); trophy room. \nWisteria Toban (4) – Classrooms\, storage rooms\, and storage containers. \nIf anyone finishes in their own area early\, please help in other areas.\nIf you would rather help in an area other than the assigned area\, that’s fine. \nThank you very much for participating!
URL:https://www.sfvhbt.org/event/regular-service-3-2-2-3-2-2-5-2-4-2-4-3-6-3-6-2-2-2-2-2-2-3-4-6-5-2-2-4-2-3-3-2-2-2-4-3-2-2-2-3-3-3-2-3/
END:VEVENT
END:VCALENDAR