BEGIN:VCALENDAR
VERSION:2.0
PRODID:-// - ECPv6.15.20//NONSGML v1.0//EN
CALSCALE:GREGORIAN
METHOD:PUBLISH
X-ORIGINAL-URL:https://www.sfvhbt.org
X-WR-CALDESC:Events for 
REFRESH-INTERVAL;VALUE=DURATION:PT1H
X-Robots-Tag:noindex
X-PUBLISHED-TTL:PT1H
BEGIN:VTIMEZONE
TZID:America/Los_Angeles
BEGIN:DAYLIGHT
TZOFFSETFROM:-0800
TZOFFSETTO:-0700
TZNAME:PDT
DTSTART:20230312T100000
END:DAYLIGHT
BEGIN:STANDARD
TZOFFSETFROM:-0700
TZOFFSETTO:-0800
TZNAME:PST
DTSTART:20231105T090000
END:STANDARD
BEGIN:DAYLIGHT
TZOFFSETFROM:-0800
TZOFFSETTO:-0700
TZNAME:PDT
DTSTART:20240310T100000
END:DAYLIGHT
BEGIN:STANDARD
TZOFFSETFROM:-0700
TZOFFSETTO:-0800
TZNAME:PST
DTSTART:20241103T090000
END:STANDARD
BEGIN:DAYLIGHT
TZOFFSETFROM:-0800
TZOFFSETTO:-0700
TZNAME:PDT
DTSTART:20250309T100000
END:DAYLIGHT
BEGIN:STANDARD
TZOFFSETFROM:-0700
TZOFFSETTO:-0800
TZNAME:PST
DTSTART:20251102T090000
END:STANDARD
END:VTIMEZONE
BEGIN:VEVENT
DTSTART;TZID=America/Los_Angeles:20240303T100000
DTEND;TZID=America/Los_Angeles:20240303T110000
DTSTAMP:20260424T190031
CREATED:20210912T032219Z
LAST-MODIFIED:20240205T065355Z
UID:7004-1709460000-1709463600@www.sfvhbt.org
SUMMARY:Shotsuki monthly memorial service
DESCRIPTION:Hybrid service Please contact us for details.
URL:https://www.sfvhbt.org/event/regular-service-3-2-2-3-2-2-5-2-4-2-4-3-6-3-6-2-2-2-2-2-2-3-4-6-5-2-2-4-2-3-3-2-2-2-4-3-2-2-2-3-3-3-2-4/
END:VEVENT
BEGIN:VEVENT
DTSTART;TZID=America/Los_Angeles:20240310T100000
DTEND;TZID=America/Los_Angeles:20240310T110000
DTSTAMP:20260424T190031
CREATED:20210912T032219Z
LAST-MODIFIED:20240205T065425Z
UID:7006-1710064800-1710068400@www.sfvhbt.org
SUMMARY:Spring Ohigan Service and Seminar
DESCRIPTION:Hybrid service Please contact us for details.
URL:https://www.sfvhbt.org/event/regular-service-3-2-2-3-2-2-5-2-4-2-4-3-6-3-6-2-2-2-2-2-2-3-4-6-5-2-2-4-2-3-3-2-2-2-4-3-2-2-2-3-3-3-2-4-2/
END:VEVENT
BEGIN:VEVENT
DTSTART;TZID=America/Los_Angeles:20240317T100000
DTEND;TZID=America/Los_Angeles:20240317T110000
DTSTAMP:20260424T190031
CREATED:20210912T032219Z
LAST-MODIFIED:20240205T065451Z
UID:7008-1710669600-1710673200@www.sfvhbt.org
SUMMARY:Regular service
DESCRIPTION:Hybrid service Please contact us for details.
URL:https://www.sfvhbt.org/event/regular-service-3-2-2-3-2-2-5-2-4-2-4-3-6-3-6-2-2-2-2-2-2-3-4-6-5-2-2-4-2-3-3-2-2-2-4-3-2-2-2-3-3-3-2-4-2-2/
END:VEVENT
BEGIN:VEVENT
DTSTART;TZID=America/Los_Angeles:20240324T100000
DTEND;TZID=America/Los_Angeles:20240324T110000
DTSTAMP:20260424T190031
CREATED:20210912T032219Z
LAST-MODIFIED:20240205T065508Z
UID:7010-1711274400-1711278000@www.sfvhbt.org
SUMMARY:Regular service
DESCRIPTION:Hybrid service Please contact us for details.
URL:https://www.sfvhbt.org/event/regular-service-3-2-2-3-2-2-5-2-4-2-4-3-6-3-6-2-2-2-2-2-2-3-4-6-5-2-2-4-2-3-3-2-2-2-4-3-2-2-2-3-3-3-2-4-2-2-2/
END:VEVENT
BEGIN:VEVENT
DTSTART;TZID=America/Los_Angeles:20240324T110000
DTEND;TZID=America/Los_Angeles:20240324T123000
DTSTAMP:20260424T190031
CREATED:20210912T032219Z
LAST-MODIFIED:20240205T065615Z
UID:7012-1711278000-1711283400@www.sfvhbt.org
SUMMARY:DME L.A. Central Library Tour
DESCRIPTION:Please see here to signup and for more details on the event
URL:https://www.sfvhbt.org/event/regular-service-3-2-2-3-2-2-5-2-4-2-4-3-6-3-6-2-2-2-2-2-2-3-4-6-5-2-2-4-2-3-3-2-2-2-4-3-2-2-2-3-3-3-2-2-3/
END:VEVENT
BEGIN:VEVENT
DTSTART;TZID=America/Los_Angeles:20240330T170000
DTEND;TZID=America/Los_Angeles:20240330T180000
DTSTAMP:20260424T190031
CREATED:20210912T032219Z
LAST-MODIFIED:20240226T141814Z
UID:7057-1711818000-1711821600@www.sfvhbt.org
SUMMARY:Chili Cook Off & Bingo Event
DESCRIPTION:Come join us for a fun-filled evening at SFVHBT. Enjoy the delicious chili cookoff entries and vote for your favorite one. Four games of BINGO will be played afterwards. Get a chance of winning fun prizes and gift cards! \nPre-order link : bit.ly/sfvhbtchilibingo
URL:https://www.sfvhbt.org/event/regular-service-3-2-2-3-2-2-5-2-4-2-4-3-6-3-6-2-2-2-2-2-2-3-4-6-5-2-2-4-2-3-3-2-2-2-4-3-2-2-2-3-3-3-2-2-3-4/
END:VEVENT
BEGIN:VEVENT
DTSTART;TZID=America/Los_Angeles:20240331T100000
DTEND;TZID=America/Los_Angeles:20240331T110000
DTSTAMP:20260424T190031
CREATED:20210912T032219Z
LAST-MODIFIED:20240205T065630Z
UID:7014-1711879200-1711882800@www.sfvhbt.org
SUMMARY:Regular service
DESCRIPTION:Hybrid service Please contact us for details.
URL:https://www.sfvhbt.org/event/regular-service-3-2-2-3-2-2-5-2-4-2-4-3-6-3-6-2-2-2-2-2-2-3-4-6-5-2-2-4-2-3-3-2-2-2-4-3-2-2-2-3-3-3-2-4-2-2-3/
END:VEVENT
END:VCALENDAR