BEGIN:VCALENDAR
VERSION:2.0
PRODID:-// - ECPv6.15.20//NONSGML v1.0//EN
CALSCALE:GREGORIAN
METHOD:PUBLISH
X-ORIGINAL-URL:https://www.sfvhbt.org
X-WR-CALDESC:Events for 
REFRESH-INTERVAL;VALUE=DURATION:PT1H
X-Robots-Tag:noindex
X-PUBLISHED-TTL:PT1H
BEGIN:VTIMEZONE
TZID:America/Los_Angeles
BEGIN:DAYLIGHT
TZOFFSETFROM:-0800
TZOFFSETTO:-0700
TZNAME:PDT
DTSTART:20230312T100000
END:DAYLIGHT
BEGIN:STANDARD
TZOFFSETFROM:-0700
TZOFFSETTO:-0800
TZNAME:PST
DTSTART:20231105T090000
END:STANDARD
BEGIN:DAYLIGHT
TZOFFSETFROM:-0800
TZOFFSETTO:-0700
TZNAME:PDT
DTSTART:20240310T100000
END:DAYLIGHT
BEGIN:STANDARD
TZOFFSETFROM:-0700
TZOFFSETTO:-0800
TZNAME:PST
DTSTART:20241103T090000
END:STANDARD
BEGIN:DAYLIGHT
TZOFFSETFROM:-0800
TZOFFSETTO:-0700
TZNAME:PDT
DTSTART:20250309T100000
END:DAYLIGHT
BEGIN:STANDARD
TZOFFSETFROM:-0700
TZOFFSETTO:-0800
TZNAME:PST
DTSTART:20251102T090000
END:STANDARD
END:VTIMEZONE
BEGIN:VEVENT
DTSTART;TZID=America/Los_Angeles:20240407T100000
DTEND;TZID=America/Los_Angeles:20240407T110000
DTSTAMP:20260424T173951
CREATED:20210912T032219Z
LAST-MODIFIED:20240324T051809Z
UID:7016-1712484000-1712487600@www.sfvhbt.org
SUMMARY:Shotsuki Memorial Service Hanamatsuri – Birth of Shakyamuni Buddha - Welcome Rev. Yukari Torii!
DESCRIPTION:Hybrid service Please contact us for details. \n  \nHatsumairi (infant presentation) \n(please contact the office if interested)
URL:https://www.sfvhbt.org/event/regular-service-3-2-2-3-2-2-5-2-4-2-4-3-6-3-6-2-2-2-2-2-2-3-4-6-5-2-2-4-2-3-3-2-2-2-4-3-2-2-2-3-3-3-2-4-2-3/
END:VEVENT
BEGIN:VEVENT
DTSTART;TZID=America/Los_Angeles:20240413T090000
DTEND;TZID=America/Los_Angeles:20240413T130000
DTSTAMP:20260424T173951
CREATED:20210912T032219Z
LAST-MODIFIED:20240324T052004Z
UID:7096-1712998800-1713013200@www.sfvhbt.org
SUMMARY:Caregiver Conference (SFV JACC)
DESCRIPTION:For over 20 years\, Keiro has offered Caregiver Conferences to support thousands of Japanese American older adults and their caregivers. Keiro understands that all caregivers need support and a space to develop skills to be the best caregiver possible. Join us for our 2024 Caregiver Conference to learn hands-on skills and gain new perspectives on your caregiving journey. \nFor more information and to register for the event\, click here \n 
URL:https://www.sfvhbt.org/event/regular-service-3-2-2-3-2-2-5-2-4-2-4-3-6-3-6-2-2-2-2-2-2-3-4-6-5-2-2-4-2-3-3-2-2-2-4-3-2-2-2-3-3-3-2-4-2-2-3-2-3/
END:VEVENT
BEGIN:VEVENT
DTSTART;TZID=America/Los_Angeles:20240414T100000
DTEND;TZID=America/Los_Angeles:20240414T110000
DTSTAMP:20260424T173951
CREATED:20210912T032219Z
LAST-MODIFIED:20240205T065743Z
UID:7018-1713088800-1713092400@www.sfvhbt.org
SUMMARY:Regular service
DESCRIPTION:Hybrid service Please contact us for details.
URL:https://www.sfvhbt.org/event/regular-service-3-2-2-3-2-2-5-2-4-2-4-3-6-3-6-2-2-2-2-2-2-3-4-6-5-2-2-4-2-3-3-2-2-2-4-3-2-2-2-3-3-3-2-4-2-2-3-2/
END:VEVENT
BEGIN:VEVENT
DTSTART;TZID=America/Los_Angeles:20240420T183000
DTEND;TZID=America/Los_Angeles:20240420T213000
DTSTAMP:20260424T173951
CREATED:20210912T032219Z
LAST-MODIFIED:20240205T070237Z
UID:7020-1713637800-1713648600@www.sfvhbt.org
SUMMARY:Spring Fling
DESCRIPTION:Another fun night of your favorite dance songs and hanging out with your friends. Appetizers and drinks will be available. Also\, special surprise guest entertainers you won’t want to miss. More details will follow in the days ahead. If you would like to help with appetizers or drink donations\, let Kenny know (kkmui@aol.com)
URL:https://www.sfvhbt.org/event/regular-service-3-2-2-3-2-2-5-2-4-2-4-3-6-3-6-2-2-2-2-2-2-3-4-6-5-2-2-4-2-3-3-2-2-2-4-3-2-2-2-3-3-3-2-2-3-2/
END:VEVENT
BEGIN:VEVENT
DTSTART;TZID=America/Los_Angeles:20240421T100000
DTEND;TZID=America/Los_Angeles:20240421T110000
DTSTAMP:20260424T173951
CREATED:20210912T032219Z
LAST-MODIFIED:20240205T070306Z
UID:7023-1713693600-1713697200@www.sfvhbt.org
SUMMARY:Regular service
DESCRIPTION:Hybrid service Please contact us for details.
URL:https://www.sfvhbt.org/event/regular-service-3-2-2-3-2-2-5-2-4-2-4-3-6-3-6-2-2-2-2-2-2-3-4-6-5-2-2-4-2-3-3-2-2-2-4-3-2-2-2-3-3-3-2-4-2-2-3-2-2/
END:VEVENT
BEGIN:VEVENT
DTSTART;TZID=America/Los_Angeles:20240421T110000
DTEND;TZID=America/Los_Angeles:20240421T123000
DTSTAMP:20260424T173951
CREATED:20210912T032219Z
LAST-MODIFIED:20240205T070359Z
UID:7025-1713697200-1713702600@www.sfvhbt.org
SUMMARY:DME Hula Dancing
DESCRIPTION:Please see here to signup and for more details on the event
URL:https://www.sfvhbt.org/event/regular-service-3-2-2-3-2-2-5-2-4-2-4-3-6-3-6-2-2-2-2-2-2-3-4-6-5-2-2-4-2-3-3-2-2-2-4-3-2-2-2-3-3-3-2-2-3-3/
END:VEVENT
BEGIN:VEVENT
DTSTART;TZID=America/Los_Angeles:20240427T090000
DTEND;TZID=America/Los_Angeles:20240427T120000
DTSTAMP:20260424T173951
CREATED:20210912T032219Z
LAST-MODIFIED:20240205T070443Z
UID:7027-1714208400-1714219200@www.sfvhbt.org
SUMMARY:DME Local Day Hike
DESCRIPTION:Please see here to signup and for more details on the event
URL:https://www.sfvhbt.org/event/regular-service-3-2-2-3-2-2-5-2-4-2-4-3-6-3-6-2-2-2-2-2-2-3-4-6-5-2-2-4-2-3-3-2-2-2-4-3-2-2-2-3-3-3-2-2-3-3-2/
END:VEVENT
BEGIN:VEVENT
DTSTART;TZID=America/Los_Angeles:20240428T100000
DTEND;TZID=America/Los_Angeles:20240428T110000
DTSTAMP:20260424T173951
CREATED:20210912T032219Z
LAST-MODIFIED:20240205T070505Z
UID:7030-1714298400-1714302000@www.sfvhbt.org
SUMMARY:Regular service
DESCRIPTION:Hybrid service Please contact us for details.
URL:https://www.sfvhbt.org/event/regular-service-3-2-2-3-2-2-5-2-4-2-4-3-6-3-6-2-2-2-2-2-2-3-4-6-5-2-2-4-2-3-3-2-2-2-4-3-2-2-2-3-3-3-2-4-2-2-3-2-2-2/
END:VEVENT
END:VCALENDAR