BEGIN:VCALENDAR
VERSION:2.0
PRODID:-// - ECPv6.15.20//NONSGML v1.0//EN
CALSCALE:GREGORIAN
METHOD:PUBLISH
X-ORIGINAL-URL:https://www.sfvhbt.org
X-WR-CALDESC:Events for 
REFRESH-INTERVAL;VALUE=DURATION:PT1H
X-Robots-Tag:noindex
X-PUBLISHED-TTL:PT1H
BEGIN:VTIMEZONE
TZID:America/Los_Angeles
BEGIN:DAYLIGHT
TZOFFSETFROM:-0800
TZOFFSETTO:-0700
TZNAME:PDT
DTSTART:20230312T100000
END:DAYLIGHT
BEGIN:STANDARD
TZOFFSETFROM:-0700
TZOFFSETTO:-0800
TZNAME:PST
DTSTART:20231105T090000
END:STANDARD
BEGIN:DAYLIGHT
TZOFFSETFROM:-0800
TZOFFSETTO:-0700
TZNAME:PDT
DTSTART:20240310T100000
END:DAYLIGHT
BEGIN:STANDARD
TZOFFSETFROM:-0700
TZOFFSETTO:-0800
TZNAME:PST
DTSTART:20241103T090000
END:STANDARD
BEGIN:DAYLIGHT
TZOFFSETFROM:-0800
TZOFFSETTO:-0700
TZNAME:PDT
DTSTART:20250309T100000
END:DAYLIGHT
BEGIN:STANDARD
TZOFFSETFROM:-0700
TZOFFSETTO:-0800
TZNAME:PST
DTSTART:20251102T090000
END:STANDARD
END:VTIMEZONE
BEGIN:VEVENT
DTSTART;TZID=America/Los_Angeles:20240504T180000
DTEND;TZID=America/Los_Angeles:20240504T200000
DTSTAMP:20260424T161500
CREATED:20210912T032219Z
LAST-MODIFIED:20240205T070602Z
UID:7032-1714845600-1714852800@www.sfvhbt.org
SUMMARY:DME Senryu Poetry
DESCRIPTION:Please see here to signup and for more details on the event
URL:https://www.sfvhbt.org/event/regular-service-3-2-2-3-2-2-5-2-4-2-4-3-6-3-6-2-2-2-2-2-2-3-4-6-5-2-2-4-2-3-3-2-2-2-4-3-2-2-2-3-3-3-2-2-3-3-2-2/
END:VEVENT
BEGIN:VEVENT
DTSTART;TZID=America/Los_Angeles:20240505T100000
DTEND;TZID=America/Los_Angeles:20240505T110000
DTSTAMP:20260424T161500
CREATED:20210912T032219Z
LAST-MODIFIED:20240324T052110Z
UID:7099-1714903200-1714906800@www.sfvhbt.org
SUMMARY:Shotsuki monthly memorial service
DESCRIPTION:Hybrid service Please contact us for details.
URL:https://www.sfvhbt.org/event/regular-service-3-2-2-3-2-2-5-2-4-2-4-3-6-3-6-2-2-2-2-2-2-3-4-6-5-2-2-4-2-3-3-2-2-2-4-3-2-2-2-3-3-3-2-4-2-2-3-2-2-2-2/
END:VEVENT
BEGIN:VEVENT
DTSTART;TZID=America/Los_Angeles:20240505T110000
DTEND;TZID=America/Los_Angeles:20240505T120000
DTSTAMP:20260424T161500
CREATED:20210912T032219Z
LAST-MODIFIED:20240324T052444Z
UID:7101-1714906800-1714910400@www.sfvhbt.org
SUMMARY:May Tea Party
DESCRIPTION:Our fabulous tea party will include a nice variety of delicious salads\, sandwiches\, and desserts. \nWhen: Sunday May 5th (After Service) \nWhere: SFVHBT Social Hall \nCost: $35/person. Please note\, the event is limited to a max of 40 people. \nReservations can be made here or fill out this form and mail to \nSFVHBT \, 9450 Remick Ave\, Pacoima\, CA 91331 no later than April 28th
URL:https://www.sfvhbt.org/event/regular-service-3-2-2-3-2-2-5-2-4-2-4-3-6-3-6-2-2-2-2-2-2-3-4-6-5-2-2-4-2-3-3-2-2-2-4-3-2-2-2-3-3-3-2-4-2-2-3-2-2-2-2-2/
END:VEVENT
BEGIN:VEVENT
DTSTART;TZID=America/Los_Angeles:20240512T100000
DTEND;TZID=America/Los_Angeles:20240512T110000
DTSTAMP:20260424T161500
CREATED:20210912T032219Z
LAST-MODIFIED:20240324T052520Z
UID:7104-1715508000-1715511600@www.sfvhbt.org
SUMMARY:Gotan-e: Shinran Shonin’s birthday and Mother’s Day service
DESCRIPTION:Hybrid service Please contact us for details.
URL:https://www.sfvhbt.org/event/regular-service-3-2-2-3-2-2-5-2-4-2-4-3-6-3-6-2-2-2-2-2-2-3-4-6-5-2-2-4-2-3-3-2-2-2-4-3-2-2-2-3-3-3-2-4-2-2-3-2-2-2-2-3/
END:VEVENT
BEGIN:VEVENT
DTSTART;TZID=America/Los_Angeles:20240519T100000
DTEND;TZID=America/Los_Angeles:20240519T110000
DTSTAMP:20260424T161500
CREATED:20210912T032219Z
LAST-MODIFIED:20240324T052549Z
UID:7106-1716112800-1716116400@www.sfvhbt.org
SUMMARY:Regular service
DESCRIPTION:Hybrid service Please contact us for details.
URL:https://www.sfvhbt.org/event/regular-service-3-2-2-3-2-2-5-2-4-2-4-3-6-3-6-2-2-2-2-2-2-3-4-6-5-2-2-4-2-3-3-2-2-2-4-3-2-2-2-3-3-3-2-4-2-2-3-2-2-2-2-3-2/
END:VEVENT
BEGIN:VEVENT
DTSTART;TZID=America/Los_Angeles:20240519T110000
DTEND;TZID=America/Los_Angeles:20240519T120000
DTSTAMP:20260424T161500
CREATED:20210912T032219Z
LAST-MODIFIED:20240324T053007Z
UID:7109-1716116400-1716120000@www.sfvhbt.org
SUMMARY:DME Abacus
DESCRIPTION:ABACUS – MAY 19 (SUN.\, AFTER SERVICE @ SFVHBT) OFFERED BY DOROTHY SHIBA\, SAEKO NAKAMORI – The ancient abacus is faster than a modern calculator? Let’s learn some basics! <potluck salad bar lunch> [$10] \n\nPlease register for classes here
URL:https://www.sfvhbt.org/event/regular-service-3-2-2-3-2-2-5-2-4-2-4-3-6-3-6-2-2-2-2-2-2-3-4-6-5-2-2-4-2-3-3-2-2-2-4-3-2-2-2-3-3-3-2-4-2-2-3-2-2-2-2-3-2-2/
END:VEVENT
BEGIN:VEVENT
DTSTART;TZID=America/Los_Angeles:20240526T100000
DTEND;TZID=America/Los_Angeles:20240526T110000
DTSTAMP:20260424T161500
CREATED:20210912T032219Z
LAST-MODIFIED:20240324T052950Z
UID:7111-1716717600-1716721200@www.sfvhbt.org
SUMMARY:Memorial Day service
DESCRIPTION:Hybrid service Please contact us for details.
URL:https://www.sfvhbt.org/event/regular-service-3-2-2-3-2-2-5-2-4-2-4-3-6-3-6-2-2-2-2-2-2-3-4-6-5-2-2-4-2-3-3-2-2-2-4-3-2-2-2-3-3-3-2-4-2-2-3-2-2-2-2-3-2-3/
END:VEVENT
END:VCALENDAR