BEGIN:VCALENDAR
VERSION:2.0
PRODID:-// - ECPv6.15.20//NONSGML v1.0//EN
CALSCALE:GREGORIAN
METHOD:PUBLISH
X-ORIGINAL-URL:https://www.sfvhbt.org
X-WR-CALDESC:Events for 
REFRESH-INTERVAL;VALUE=DURATION:PT1H
X-Robots-Tag:noindex
X-PUBLISHED-TTL:PT1H
BEGIN:VTIMEZONE
TZID:America/Los_Angeles
BEGIN:DAYLIGHT
TZOFFSETFROM:-0800
TZOFFSETTO:-0700
TZNAME:PDT
DTSTART:20230312T100000
END:DAYLIGHT
BEGIN:STANDARD
TZOFFSETFROM:-0700
TZOFFSETTO:-0800
TZNAME:PST
DTSTART:20231105T090000
END:STANDARD
BEGIN:DAYLIGHT
TZOFFSETFROM:-0800
TZOFFSETTO:-0700
TZNAME:PDT
DTSTART:20240310T100000
END:DAYLIGHT
BEGIN:STANDARD
TZOFFSETFROM:-0700
TZOFFSETTO:-0800
TZNAME:PST
DTSTART:20241103T090000
END:STANDARD
BEGIN:DAYLIGHT
TZOFFSETFROM:-0800
TZOFFSETTO:-0700
TZNAME:PDT
DTSTART:20250309T100000
END:DAYLIGHT
BEGIN:STANDARD
TZOFFSETFROM:-0700
TZOFFSETTO:-0800
TZNAME:PST
DTSTART:20251102T090000
END:STANDARD
END:VTIMEZONE
BEGIN:VEVENT
DTSTART;TZID=America/Los_Angeles:20240707T100000
DTEND;TZID=America/Los_Angeles:20240707T110000
DTSTAMP:20260424T131320
CREATED:20210912T032219Z
LAST-MODIFIED:20240603T052300Z
UID:7194-1720346400-1720350000@www.sfvhbt.org
SUMMARY:Regular service
DESCRIPTION:Hybrid service Please contact us for details.
URL:https://www.sfvhbt.org/event/regular-service-3-2-2-3-2-2-5-2-4-2-4-3-6-3-6-2-2-2-2-2-2-3-4-6-5-2-2-4-2-3-3-2-2-2-4-3-2-2-2-3-3-3-2-4-2-2-3-2-2-2-2-3-2-3-2-2-4-3/
END:VEVENT
BEGIN:VEVENT
DTSTART;TZID=America/Los_Angeles:20240714T100000
DTEND;TZID=America/Los_Angeles:20240714T110000
DTSTAMP:20260424T131320
CREATED:20210912T032219Z
LAST-MODIFIED:20240603T051354Z
UID:7170-1720951200-1720954800@www.sfvhbt.org
SUMMARY:Obon/Hatsubon and July-August Shotsuki Memorial Service
DESCRIPTION:Hybrid service Please contact us for details. \nThe following people will be remembered at the combined Obon\, Hatsubon\, and July-August Shotsuki memorial service on July 14: \n\nYoshiko Monji   January 2\, 2024\nKinya Tatsumi   February 17\, 2024\nGeorge Tamura   February 21\, 2024\nShunji Muso   March 24\, 2024\nFrank Imamura   April 10\, 2024
URL:https://www.sfvhbt.org/event/regular-service-3-2-2-3-2-2-5-2-4-2-4-3-6-3-6-2-2-2-2-2-2-3-4-6-5-2-2-4-2-3-3-2-2-2-4-3-2-2-2-3-3-3-2-4-2-2-3-2-2-2-2-3-2-3-2-2-4-2/
END:VEVENT
BEGIN:VEVENT
DTSTART;TZID=America/Los_Angeles:20240720T180000
DTEND;TZID=America/Los_Angeles:20240720T200000
DTSTAMP:20260424T131320
CREATED:20210912T032219Z
LAST-MODIFIED:20240603T051601Z
UID:7172-1721498400-1721505600@www.sfvhbt.org
SUMMARY:DME Sing Along/Karaoke
DESCRIPTION:SING-ALONG/KARAOKE – JULY 20 (SAT.\, 6-8PM @ TEMPLE) OFFERED BY STEVE KUMAGAI – Enjoy an evening of music and singing! <potluck snack bar> [$10] \n\nPlease register for classes here
URL:https://www.sfvhbt.org/event/regular-service-3-2-2-3-2-2-5-2-4-2-4-3-6-3-6-2-2-2-2-2-2-3-4-6-5-2-2-4-2-3-3-2-2-2-4-3-2-2-2-3-3-3-2-4-2-2-3-2-2-2-2-3-2-2-2/
END:VEVENT
BEGIN:VEVENT
DTSTART;TZID=America/Los_Angeles:20240721T100000
DTEND;TZID=America/Los_Angeles:20240721T110000
DTSTAMP:20260424T131320
CREATED:20210912T032219Z
LAST-MODIFIED:20240603T051713Z
UID:7179-1721556000-1721559600@www.sfvhbt.org
SUMMARY:Summer Service
DESCRIPTION:Hybrid service Please contact us for details.
URL:https://www.sfvhbt.org/event/regular-service-3-2-2-3-2-2-5-2-4-2-4-3-6-3-6-2-2-2-2-2-2-3-4-6-5-2-2-4-2-3-3-2-2-2-4-3-2-2-2-3-3-3-2-4-2-2-3-2-2-2-2-3-2-3-2-2-4-2-2-2/
END:VEVENT
BEGIN:VEVENT
DTSTART;TZID=America/Los_Angeles:20240728T100000
DTEND;TZID=America/Los_Angeles:20240728T110000
DTSTAMP:20260424T131320
CREATED:20210912T032219Z
LAST-MODIFIED:20240603T051722Z
UID:7178-1722160800-1722164400@www.sfvhbt.org
SUMMARY:Summer Service
DESCRIPTION:Hybrid service Please contact us for details.
URL:https://www.sfvhbt.org/event/regular-service-3-2-2-3-2-2-5-2-4-2-4-3-6-3-6-2-2-2-2-2-2-3-4-6-5-2-2-4-2-3-3-2-2-2-4-3-2-2-2-3-3-3-2-4-2-2-3-2-2-2-2-3-2-3-2-2-4-2-2-3/
END:VEVENT
BEGIN:VEVENT
DTSTART;TZID=America/Los_Angeles:20240728T110000
DTEND;TZID=America/Los_Angeles:20240728T120000
DTSTAMP:20260424T131320
CREATED:20210912T032219Z
LAST-MODIFIED:20240603T051841Z
UID:7182-1722164400-1722168000@www.sfvhbt.org
SUMMARY:DME Improv Comedy
DESCRIPTION:IMPROV COMEDY – JULY 28 (SUN.\, AFTER SERVICE @ TEMPLE) OFFERED BY REV. J.P. DEGUZMAN – As mentioned in one of his amazing dharma talks\, Rev. JP will gently lead us in this ultimate experience of comedy and mindfulness! Ideal # of participants: 12+; wear comfortable clothing. <potluck salad bar lunch> [$10] \n\nPlease register for classes here
URL:https://www.sfvhbt.org/event/regular-service-3-2-2-3-2-2-5-2-4-2-4-3-6-3-6-2-2-2-2-2-2-3-4-6-5-2-2-4-2-3-3-2-2-2-4-3-2-2-2-3-3-3-2-4-2-2-3-2-2-2-2-3-2-2-2-2/
END:VEVENT
END:VCALENDAR