BEGIN:VCALENDAR
VERSION:2.0
PRODID:-// - ECPv6.15.20//NONSGML v1.0//EN
CALSCALE:GREGORIAN
METHOD:PUBLISH
X-ORIGINAL-URL:https://www.sfvhbt.org
X-WR-CALDESC:Events for 
REFRESH-INTERVAL;VALUE=DURATION:PT1H
X-Robots-Tag:noindex
X-PUBLISHED-TTL:PT1H
BEGIN:VTIMEZONE
TZID:America/Los_Angeles
BEGIN:DAYLIGHT
TZOFFSETFROM:-0800
TZOFFSETTO:-0700
TZNAME:PDT
DTSTART:20230312T100000
END:DAYLIGHT
BEGIN:STANDARD
TZOFFSETFROM:-0700
TZOFFSETTO:-0800
TZNAME:PST
DTSTART:20231105T090000
END:STANDARD
BEGIN:DAYLIGHT
TZOFFSETFROM:-0800
TZOFFSETTO:-0700
TZNAME:PDT
DTSTART:20240310T100000
END:DAYLIGHT
BEGIN:STANDARD
TZOFFSETFROM:-0700
TZOFFSETTO:-0800
TZNAME:PST
DTSTART:20241103T090000
END:STANDARD
BEGIN:DAYLIGHT
TZOFFSETFROM:-0800
TZOFFSETTO:-0700
TZNAME:PDT
DTSTART:20250309T100000
END:DAYLIGHT
BEGIN:STANDARD
TZOFFSETFROM:-0700
TZOFFSETTO:-0800
TZNAME:PST
DTSTART:20251102T090000
END:STANDARD
END:VTIMEZONE
BEGIN:VEVENT
DTSTART;TZID=America/Los_Angeles:20240804T100000
DTEND;TZID=America/Los_Angeles:20240804T110000
DTSTAMP:20260424T114000
CREATED:20210912T032219Z
LAST-MODIFIED:20240603T051922Z
UID:7184-1722765600-1722769200@www.sfvhbt.org
SUMMARY:Summer Service
DESCRIPTION:Hybrid service Please contact us for details.
URL:https://www.sfvhbt.org/event/regular-service-3-2-2-3-2-2-5-2-4-2-4-3-6-3-6-2-2-2-2-2-2-3-4-6-5-2-2-4-2-3-3-2-2-2-4-3-2-2-2-3-3-3-2-4-2-2-3-2-2-2-2-3-2-3-2-2-4-2-2-3-2/
END:VEVENT
BEGIN:VEVENT
DTSTART;TZID=America/Los_Angeles:20240811T100000
DTEND;TZID=America/Los_Angeles:20240811T110000
DTSTAMP:20260424T114000
CREATED:20210912T032219Z
LAST-MODIFIED:20240603T052016Z
UID:7188-1723370400-1723374000@www.sfvhbt.org
SUMMARY:Summer Service
DESCRIPTION:Hybrid service Please contact us for details.
URL:https://www.sfvhbt.org/event/regular-service-3-2-2-3-2-2-5-2-4-2-4-3-6-3-6-2-2-2-2-2-2-3-4-6-5-2-2-4-2-3-3-2-2-2-4-3-2-2-2-3-3-3-2-4-2-2-3-2-2-2-2-3-2-3-2-2-4-2-2-3-2-2-2/
END:VEVENT
BEGIN:VEVENT
DTSTART;TZID=America/Los_Angeles:20240811T110000
DTEND;TZID=America/Los_Angeles:20240811T120000
DTSTAMP:20260424T114000
CREATED:20210912T032219Z
LAST-MODIFIED:20240603T052403Z
UID:7192-1723374000-1723377600@www.sfvhbt.org
SUMMARY:DME Abacus
DESCRIPTION:OFFERED BY DOROTHY SHIBA\, SAEKO NAKAMORI – The ancient abacus is faster than a modern calculator? Let’s learn some basics! <potluck salad bar lunch> [$10] \n\nPlease register for classes here
URL:https://www.sfvhbt.org/event/regular-service-3-2-2-3-2-2-5-2-4-2-4-3-6-3-6-2-2-2-2-2-2-3-4-6-5-2-2-4-2-3-3-2-2-2-4-3-2-2-2-3-3-3-2-4-2-2-3-2-2-2-2-3-2-2-2-2-2/
END:VEVENT
BEGIN:VEVENT
DTSTART;TZID=America/Los_Angeles:20240818T100000
DTEND;TZID=America/Los_Angeles:20240818T110000
DTSTAMP:20260424T114000
CREATED:20210912T032219Z
LAST-MODIFIED:20240603T051948Z
UID:7186-1723975200-1723978800@www.sfvhbt.org
SUMMARY:Summer Service
DESCRIPTION:Hybrid service Please contact us for details.
URL:https://www.sfvhbt.org/event/regular-service-3-2-2-3-2-2-5-2-4-2-4-3-6-3-6-2-2-2-2-2-2-3-4-6-5-2-2-4-2-3-3-2-2-2-4-3-2-2-2-3-3-3-2-4-2-2-3-2-2-2-2-3-2-3-2-2-4-2-2-3-2-2/
END:VEVENT
BEGIN:VEVENT
DTSTART;TZID=America/Los_Angeles:20240825T100000
DTEND;TZID=America/Los_Angeles:20240825T110000
DTSTAMP:20260424T114000
CREATED:20210912T032219Z
LAST-MODIFIED:20240603T052032Z
UID:7190-1724580000-1724583600@www.sfvhbt.org
SUMMARY:Summer Service
DESCRIPTION:Hybrid service Please contact us for details.
URL:https://www.sfvhbt.org/event/regular-service-3-2-2-3-2-2-5-2-4-2-4-3-6-3-6-2-2-2-2-2-2-3-4-6-5-2-2-4-2-3-3-2-2-2-4-3-2-2-2-3-3-3-2-4-2-2-3-2-2-2-2-3-2-3-2-2-4-2-2-3-2-2-3/
END:VEVENT
END:VCALENDAR