BEGIN:VCALENDAR
VERSION:2.0
PRODID:-// - ECPv6.15.20//NONSGML v1.0//EN
CALSCALE:GREGORIAN
METHOD:PUBLISH
X-ORIGINAL-URL:https://www.sfvhbt.org
X-WR-CALDESC:Events for 
REFRESH-INTERVAL;VALUE=DURATION:PT1H
X-Robots-Tag:noindex
X-PUBLISHED-TTL:PT1H
BEGIN:VTIMEZONE
TZID:America/Los_Angeles
BEGIN:DAYLIGHT
TZOFFSETFROM:-0800
TZOFFSETTO:-0700
TZNAME:PDT
DTSTART:20230312T100000
END:DAYLIGHT
BEGIN:STANDARD
TZOFFSETFROM:-0700
TZOFFSETTO:-0800
TZNAME:PST
DTSTART:20231105T090000
END:STANDARD
BEGIN:DAYLIGHT
TZOFFSETFROM:-0800
TZOFFSETTO:-0700
TZNAME:PDT
DTSTART:20240310T100000
END:DAYLIGHT
BEGIN:STANDARD
TZOFFSETFROM:-0700
TZOFFSETTO:-0800
TZNAME:PST
DTSTART:20241103T090000
END:STANDARD
BEGIN:DAYLIGHT
TZOFFSETFROM:-0800
TZOFFSETTO:-0700
TZNAME:PDT
DTSTART:20250309T100000
END:DAYLIGHT
BEGIN:STANDARD
TZOFFSETFROM:-0700
TZOFFSETTO:-0800
TZNAME:PST
DTSTART:20251102T090000
END:STANDARD
END:VTIMEZONE
BEGIN:VEVENT
DTSTART;TZID=America/Los_Angeles:20241103T100000
DTEND;TZID=America/Los_Angeles:20241103T110000
DTSTAMP:20260424T073332
CREATED:20210912T032219Z
LAST-MODIFIED:20241006T132415Z
UID:7290-1730628000-1730631600@www.sfvhbt.org
SUMMARY:Shotsuki Monthly\, Eitaikyo\, and Eshinni-ko/Kakushinni-ko memorial services
DESCRIPTION:Hybrid service Please contact us for details.
URL:https://www.sfvhbt.org/event/regular-service-3-2-2-3-2-2-5-2-4-2-4-3-6-3-6-2-2-2-2-2-2-3-4-6-5-2-2-4-2-3-3-2-2-2-4-3-2-2-2-3-3-3-2-4-2-2-3-2-2-2-2-3-2-3-2-2-4-2-2-3-2-2-3-5-3-2-3/
END:VEVENT
BEGIN:VEVENT
DTSTART;TZID=America/Los_Angeles:20241110T100000
DTEND;TZID=America/Los_Angeles:20241110T110000
DTSTAMP:20260424T073332
CREATED:20210912T032219Z
LAST-MODIFIED:20241006T132440Z
UID:7292-1731232800-1731236400@www.sfvhbt.org
SUMMARY:Regular Service
DESCRIPTION:Hybrid service Please contact us for details.
URL:https://www.sfvhbt.org/event/regular-service-3-2-2-3-2-2-5-2-4-2-4-3-6-3-6-2-2-2-2-2-2-3-4-6-5-2-2-4-2-3-3-2-2-2-4-3-2-2-2-3-3-3-2-4-2-2-3-2-2-2-2-3-2-3-2-2-4-2-2-3-2-2-3-5-3-2-4/
END:VEVENT
BEGIN:VEVENT
DTSTART;TZID=America/Los_Angeles:20241116T173000
DTEND;TZID=America/Los_Angeles:20241116T200000
DTSTAMP:20260424T073332
CREATED:20210912T032219Z
LAST-MODIFIED:20241014T062409Z
UID:7323-1731778200-1731787200@www.sfvhbt.org
SUMMARY:Curry Dinner & Movie Night
DESCRIPTION:Join us for a delicious homemade curry dinner\, followed by a heartwarming movie: “The Biggest Little Farm” that’s perfect for the whole family! \nFor more information\, go here
URL:https://www.sfvhbt.org/event/regular-service-3-2-2-3-2-2-5-2-4-2-4-3-6-3-6-2-2-2-2-2-2-3-4-6-5-2-2-4-2-3-3-2-2-2-4-3-2-2-2-3-3-3-2-4-2-2-3-2-2-2-2-3-2-3-2-2-4-2-2-3-2-2-3-5-3-2-4-2-3/
LOCATION:San Fernando Valley Hongwanji Buddhist Temple\, 9450 Remick Ave.\, Pacoima\, CA\, 91331\, United States
END:VEVENT
BEGIN:VEVENT
DTSTART;TZID=America/Los_Angeles:20241117T100000
DTEND;TZID=America/Los_Angeles:20241117T110000
DTSTAMP:20260424T073332
CREATED:20210912T032219Z
LAST-MODIFIED:20241006T132500Z
UID:7294-1731837600-1731841200@www.sfvhbt.org
SUMMARY:Regular Service
DESCRIPTION:Hybrid service Please contact us for details.
URL:https://www.sfvhbt.org/event/regular-service-3-2-2-3-2-2-5-2-4-2-4-3-6-3-6-2-2-2-2-2-2-3-4-6-5-2-2-4-2-3-3-2-2-2-4-3-2-2-2-3-3-3-2-4-2-2-3-2-2-2-2-3-2-3-2-2-4-2-2-3-2-2-3-5-3-2-4-2/
END:VEVENT
BEGIN:VEVENT
DTSTART;TZID=America/Los_Angeles:20241124T100000
DTEND;TZID=America/Los_Angeles:20241124T110000
DTSTAMP:20260424T073332
CREATED:20210912T032219Z
LAST-MODIFIED:20241006T132521Z
UID:7296-1732442400-1732446000@www.sfvhbt.org
SUMMARY:Regular Service
DESCRIPTION:Hybrid service Please contact us for details.
URL:https://www.sfvhbt.org/event/regular-service-3-2-2-3-2-2-5-2-4-2-4-3-6-3-6-2-2-2-2-2-2-3-4-6-5-2-2-4-2-3-3-2-2-2-4-3-2-2-2-3-3-3-2-4-2-2-3-2-2-2-2-3-2-3-2-2-4-2-2-3-2-2-3-5-3-2-4-2-2/
END:VEVENT
END:VCALENDAR