BEGIN:VCALENDAR
VERSION:2.0
PRODID:-// - ECPv6.15.20//NONSGML v1.0//EN
CALSCALE:GREGORIAN
METHOD:PUBLISH
X-ORIGINAL-URL:https://www.sfvhbt.org
X-WR-CALDESC:Events for 
REFRESH-INTERVAL;VALUE=DURATION:PT1H
X-Robots-Tag:noindex
X-PUBLISHED-TTL:PT1H
BEGIN:VTIMEZONE
TZID:America/Los_Angeles
BEGIN:DAYLIGHT
TZOFFSETFROM:-0800
TZOFFSETTO:-0700
TZNAME:PDT
DTSTART:20240310T100000
END:DAYLIGHT
BEGIN:STANDARD
TZOFFSETFROM:-0700
TZOFFSETTO:-0800
TZNAME:PST
DTSTART:20241103T090000
END:STANDARD
BEGIN:DAYLIGHT
TZOFFSETFROM:-0800
TZOFFSETTO:-0700
TZNAME:PDT
DTSTART:20250309T100000
END:DAYLIGHT
BEGIN:STANDARD
TZOFFSETFROM:-0700
TZOFFSETTO:-0800
TZNAME:PST
DTSTART:20251102T090000
END:STANDARD
BEGIN:DAYLIGHT
TZOFFSETFROM:-0800
TZOFFSETTO:-0700
TZNAME:PDT
DTSTART:20260308T100000
END:DAYLIGHT
BEGIN:STANDARD
TZOFFSETFROM:-0700
TZOFFSETTO:-0800
TZNAME:PST
DTSTART:20261101T090000
END:STANDARD
END:VTIMEZONE
BEGIN:VEVENT
DTSTART;TZID=America/Los_Angeles:20250101T100000
DTEND;TZID=America/Los_Angeles:20250101T110000
DTSTAMP:20260424T044258
CREATED:20210912T032219Z
LAST-MODIFIED:20241006T132848Z
UID:7308-1735725600-1735729200@www.sfvhbt.org
SUMMARY:New Year's Day Service
DESCRIPTION:Please contact us for details.
URL:https://www.sfvhbt.org/event/regular-service-3-2-2-3-2-2-5-2-4-2-4-3-6-3-6-2-2-2-2-2-2-3-4-6-5-2-2-4-2-3-3-2-2-2-4-3-2-2-2-3-3-3-2-4-2-2-3-2-2-2-2-3-2-3-2-2-4-2-2-3-2-2-3-5-3-2-4-2-2-3-3-2/
END:VEVENT
BEGIN:VEVENT
DTSTART;TZID=America/Los_Angeles:20250105T100000
DTEND;TZID=America/Los_Angeles:20250105T110000
DTSTAMP:20260424T044258
CREATED:20210912T032219Z
LAST-MODIFIED:20241125T143328Z
UID:7349-1736071200-1736074800@www.sfvhbt.org
SUMMARY:Shotsuki memorial service
DESCRIPTION:Hybrid service Please contact us for details.
URL:https://www.sfvhbt.org/event/regular-service-3-2-2-3-2-2-5-2-4-2-4-3-6-3-6-2-2-2-2-2-2-3-4-6-5-2-2-4-2-3-3-2-2-2-4-3-2-2-2-3-3-3-2-4-2-2-3-2-2-2-2-3-2-3-2-2-4-2-2-3-2-2-3-5-3-2-4-2-2-3-2-3/
END:VEVENT
BEGIN:VEVENT
DTSTART;TZID=America/Los_Angeles:20250112T100000
DTEND;TZID=America/Los_Angeles:20250112T110000
DTSTAMP:20260424T044258
CREATED:20241125T143500Z
LAST-MODIFIED:20241125T143500Z
UID:7351-1736676000-1736679600@www.sfvhbt.org
SUMMARY:Ho-onko: Shinran Shonin Memorial Service
DESCRIPTION:Special Guest Speaker: Rev. George Matsubayashi\, BCA Minister Emeritus
URL:https://www.sfvhbt.org/event/ho-onko-shinran-shonin-memorial-service/
LOCATION:San Fernando Valley Hongwanji Buddhist Temple\, 9450 Remick Ave.\, Pacoima\, CA\, 91331\, United States
END:VEVENT
BEGIN:VEVENT
DTSTART;TZID=America/Los_Angeles:20250112T110000
DTEND;TZID=America/Los_Angeles:20250112T120000
DTSTAMP:20260424T044258
CREATED:20241125T144138Z
LAST-MODIFIED:20250112T172912Z
UID:7353-1736679600-1736683200@www.sfvhbt.org
SUMMARY:Postponed - New Year potluck luncheon. Zoom service.
DESCRIPTION:We hope this message finds you safe and well. Due to the environmental and safety concerns caused by the recent fires in nearby areas\, we have made the difficult decision to postpone this Sunday’s New Year’s Luncheon and in-person service. The rescheduled date will be Sunday\, January 26\, at the same time after service (to begin between 11:00-11:30).  We hope you can all still join us\, and perhaps even more of you will be able to attend on the new date.  To facilitate the ordering of our bentos\, we will assume that those who have RSVPd will still be able to attend.  If your availability has changed\, then please contact us at this email address\, to cancel or add your participation.  If you do need to cancel\, please let us know if you would like a refund or if you would like to donate the cost of your bento order.  We look forward to sharing this time together\, if not in celebration\, but in appreciation that we can gather and express gratitude for what we have in this new year. \nIn place of our in-person service\, we invite you to join us for a Zoom service this Sunday. Please contact sfvhbt@sfvhbt.org for details.
URL:https://www.sfvhbt.org/event/new-year-potluck-luncheon/
END:VEVENT
BEGIN:VEVENT
DTSTART;TZID=America/Los_Angeles:20250119T100000
DTEND;TZID=America/Los_Angeles:20250119T110000
DTSTAMP:20260424T044258
CREATED:20210912T032219Z
LAST-MODIFIED:20241125T144218Z
UID:7355-1737280800-1737284400@www.sfvhbt.org
SUMMARY:Regular Service
DESCRIPTION:Hybrid service Please contact us for details.
URL:https://www.sfvhbt.org/event/regular-service-3-2-2-3-2-2-5-2-4-2-4-3-6-3-6-2-2-2-2-2-2-3-4-6-5-2-2-4-2-3-3-2-2-2-4-3-2-2-2-3-3-3-2-4-2-2-3-2-2-2-2-3-2-3-2-2-4-2-2-3-2-2-3-5-3-2-4-2-2-3-2-4/
END:VEVENT
BEGIN:VEVENT
DTSTART;TZID=America/Los_Angeles:20250126T100000
DTEND;TZID=America/Los_Angeles:20250126T110000
DTSTAMP:20260424T044258
CREATED:20210912T032219Z
LAST-MODIFIED:20241125T144245Z
UID:7357-1737885600-1737889200@www.sfvhbt.org
SUMMARY:Regular Service
DESCRIPTION:Hybrid service Please contact us for details.
URL:https://www.sfvhbt.org/event/regular-service-3-2-2-3-2-2-5-2-4-2-4-3-6-3-6-2-2-2-2-2-2-3-4-6-5-2-2-4-2-3-3-2-2-2-4-3-2-2-2-3-3-3-2-4-2-2-3-2-2-2-2-3-2-3-2-2-4-2-2-3-2-2-3-5-3-2-4-2-2-3-2-4-2/
END:VEVENT
BEGIN:VEVENT
DTSTART;TZID=America/Los_Angeles:20250126T110000
DTEND;TZID=America/Los_Angeles:20250126T120000
DTSTAMP:20260424T044258
CREATED:20250112T172357Z
LAST-MODIFIED:20250112T172357Z
UID:7439-1737889200-1737892800@www.sfvhbt.org
SUMMARY:Rescheduled - New Year's Luncheon
DESCRIPTION:The temple board has found a new date for our New Year’s Luncheon.  The rescheduled date will be Sunday\, January 26\, at the same time after service (to begin between 11:00-11:30).  We hope you can all still join us\, and perhaps even more of you will be able to attend on the new date.  To facilitate the ordering of our bentos\, we will assume that those who have RSVPd will still be able to attend.  If your availability has changed\, then please contact us at this email address\, to cancel or add your participation.  If you do need to cancel\, please let us know if you would like a refund or if you would like to donate the cost of your bento order.  We look forward to sharing this time together\, if not in celebration\, but in appreciation that we can gather and express gratitude for what we have in this new year.
URL:https://www.sfvhbt.org/event/rescheduled-new-years-luncheon/
END:VEVENT
END:VCALENDAR