BEGIN:VCALENDAR
VERSION:2.0
PRODID:-// - ECPv6.15.20//NONSGML v1.0//EN
CALSCALE:GREGORIAN
METHOD:PUBLISH
X-ORIGINAL-URL:https://www.sfvhbt.org
X-WR-CALDESC:Events for 
REFRESH-INTERVAL;VALUE=DURATION:PT1H
X-Robots-Tag:noindex
X-PUBLISHED-TTL:PT1H
BEGIN:VTIMEZONE
TZID:America/Los_Angeles
BEGIN:DAYLIGHT
TZOFFSETFROM:-0800
TZOFFSETTO:-0700
TZNAME:PDT
DTSTART:20240310T100000
END:DAYLIGHT
BEGIN:STANDARD
TZOFFSETFROM:-0700
TZOFFSETTO:-0800
TZNAME:PST
DTSTART:20241103T090000
END:STANDARD
BEGIN:DAYLIGHT
TZOFFSETFROM:-0800
TZOFFSETTO:-0700
TZNAME:PDT
DTSTART:20250309T100000
END:DAYLIGHT
BEGIN:STANDARD
TZOFFSETFROM:-0700
TZOFFSETTO:-0800
TZNAME:PST
DTSTART:20251102T090000
END:STANDARD
BEGIN:DAYLIGHT
TZOFFSETFROM:-0800
TZOFFSETTO:-0700
TZNAME:PDT
DTSTART:20260308T100000
END:DAYLIGHT
BEGIN:STANDARD
TZOFFSETFROM:-0700
TZOFFSETTO:-0800
TZNAME:PST
DTSTART:20261101T090000
END:STANDARD
END:VTIMEZONE
BEGIN:VEVENT
DTSTART;TZID=America/Los_Angeles:20250202T100000
DTEND;TZID=America/Los_Angeles:20250202T110000
DTSTAMP:20260424T032106
CREATED:20210912T032219Z
LAST-MODIFIED:20250202T162613Z
UID:7359-1738490400-1738494000@www.sfvhbt.org
SUMMARY:Shotsuki memorial service
DESCRIPTION:Hybrid service Please contact us for details.
URL:https://www.sfvhbt.org/event/regular-service-3-2-2-3-2-2-5-2-4-2-4-3-6-3-6-2-2-2-2-2-2-3-4-6-5-2-2-4-2-3-3-2-2-2-4-3-2-2-2-3-3-3-2-4-2-2-3-2-2-2-2-3-2-3-2-2-4-2-2-3-2-2-3-5-3-2-4-2-2-3-2-3-2/
CATEGORIES:Special Service
END:VEVENT
BEGIN:VEVENT
DTSTART;TZID=America/Los_Angeles:20250209T100000
DTEND;TZID=America/Los_Angeles:20250209T110000
DTSTAMP:20260424T032106
CREATED:20210912T032219Z
LAST-MODIFIED:20250202T162554Z
UID:7361-1739095200-1739098800@www.sfvhbt.org
SUMMARY:Regular Service
DESCRIPTION:Hybrid service Please contact us for details.
URL:https://www.sfvhbt.org/event/regular-service-3-2-2-3-2-2-5-2-4-2-4-3-6-3-6-2-2-2-2-2-2-3-4-6-5-2-2-4-2-3-3-2-2-2-4-3-2-2-2-3-3-3-2-4-2-2-3-2-2-2-2-3-2-3-2-2-4-2-2-3-2-2-3-5-3-2-4-2-2-3-2-4-2-2/
CATEGORIES:Regular Service
END:VEVENT
BEGIN:VEVENT
DTSTART;TZID=America/Los_Angeles:20250216T100000
DTEND;TZID=America/Los_Angeles:20250216T110000
DTSTAMP:20260424T032106
CREATED:20241125T144525Z
LAST-MODIFIED:20250202T162534Z
UID:7363-1739700000-1739703600@www.sfvhbt.org
SUMMARY:Nehan-e: Shakyamuni Buddha’s Memorial Service
DESCRIPTION:Hybrid Service. Please contact us for details.
URL:https://www.sfvhbt.org/event/nehan-e-shakyamuni-buddhas-memorial-service/
LOCATION:San Fernando Valley Hongwanji Buddhist Temple\, 9450 Remick Ave.\, Pacoima\, CA\, 91331\, United States
CATEGORIES:Special Service
END:VEVENT
BEGIN:VEVENT
DTSTART;TZID=America/Los_Angeles:20250216T113000
DTEND;TZID=America/Los_Angeles:20250216T130000
DTSTAMP:20260424T032106
CREATED:20250109T071053Z
LAST-MODIFIED:20250204T142841Z
UID:7433-1739705400-1739710800@www.sfvhbt.org
SUMMARY:Kuni San’s Sushi Workshop
DESCRIPTION:Join us for a hands-on Sushi Workshop where you’ll \nWatch a sushi rice and fish preparation demo Learn to prepare different types of sushi Enjoy your creations alongside a delicious light lunch. \n\nWatch a sushi rice and fish preparation demo\n\n\nLearn to prepare different types of sushi\n\n\nEnjoy your creations alongside a delicious light lunch.\n\nCost: $30 / person \nRSVP: https://bit.ly/426dLnJ
URL:https://www.sfvhbt.org/event/kuni-sans-sushi-workshop/
CATEGORIES:Special Event
END:VEVENT
BEGIN:VEVENT
DTSTART;TZID=America/Los_Angeles:20250223T100000
DTEND;TZID=America/Los_Angeles:20250223T110000
DTSTAMP:20260424T032106
CREATED:20250202T155759Z
LAST-MODIFIED:20250202T162411Z
UID:7453-1740304800-1740308400@www.sfvhbt.org
SUMMARY:Regular Service
DESCRIPTION:Hybrid service Please contact us for details.
URL:https://www.sfvhbt.org/event/regular-service-4/
CATEGORIES:Regular Service
END:VEVENT
END:VCALENDAR