BEGIN:VCALENDAR
VERSION:2.0
PRODID:-// - ECPv6.15.20//NONSGML v1.0//EN
CALSCALE:GREGORIAN
METHOD:PUBLISH
X-ORIGINAL-URL:https://www.sfvhbt.org
X-WR-CALDESC:Events for 
REFRESH-INTERVAL;VALUE=DURATION:PT1H
X-Robots-Tag:noindex
X-PUBLISHED-TTL:PT1H
BEGIN:VTIMEZONE
TZID:America/Los_Angeles
BEGIN:DAYLIGHT
TZOFFSETFROM:-0800
TZOFFSETTO:-0700
TZNAME:PDT
DTSTART:20240310T100000
END:DAYLIGHT
BEGIN:STANDARD
TZOFFSETFROM:-0700
TZOFFSETTO:-0800
TZNAME:PST
DTSTART:20241103T090000
END:STANDARD
BEGIN:DAYLIGHT
TZOFFSETFROM:-0800
TZOFFSETTO:-0700
TZNAME:PDT
DTSTART:20250309T100000
END:DAYLIGHT
BEGIN:STANDARD
TZOFFSETFROM:-0700
TZOFFSETTO:-0800
TZNAME:PST
DTSTART:20251102T090000
END:STANDARD
BEGIN:DAYLIGHT
TZOFFSETFROM:-0800
TZOFFSETTO:-0700
TZNAME:PDT
DTSTART:20260308T100000
END:DAYLIGHT
BEGIN:STANDARD
TZOFFSETFROM:-0700
TZOFFSETTO:-0800
TZNAME:PST
DTSTART:20261101T090000
END:STANDARD
END:VTIMEZONE
BEGIN:VEVENT
DTSTART;TZID=America/Los_Angeles:20250406T100000
DTEND;TZID=America/Los_Angeles:20250406T110000
DTSTAMP:20260424T002034
CREATED:20250204T141819Z
LAST-MODIFIED:20250204T141819Z
UID:7468-1743933600-1743937200@www.sfvhbt.org
SUMMARY:Shotsuki Memorial Service Hanamatsuri – Birth of Shakyamuni Buddha (Otoki Lunch afterwards)
DESCRIPTION:Hybrid Service. Please contact the Temple for details \nHatsumairi (infant presentation) (please contact the office if interested) \n10 am\, Sunday\, April 6 \n(otoki following service)
URL:https://www.sfvhbt.org/event/shotsuki-memorial-service-hanamatsuri-birth-of-shakyamuni-buddha-otoki-lunch-afterwards/
CATEGORIES:Otoki Lunch,Special Service
END:VEVENT
BEGIN:VEVENT
DTSTART;TZID=America/Los_Angeles:20250413T100000
DTEND;TZID=America/Los_Angeles:20250413T110000
DTSTAMP:20260424T002034
CREATED:20250204T142012Z
LAST-MODIFIED:20250204T142012Z
UID:7470-1744538400-1744542000@www.sfvhbt.org
SUMMARY:Regular Service
DESCRIPTION:Hybrid Service. Please contact the Temple for details.
URL:https://www.sfvhbt.org/event/regular-service-7/
CATEGORIES:Regular Service
END:VEVENT
BEGIN:VEVENT
DTSTART;TZID=America/Los_Angeles:20250420T100000
DTEND;TZID=America/Los_Angeles:20250420T110000
DTSTAMP:20260424T002034
CREATED:20250204T142059Z
LAST-MODIFIED:20250204T142059Z
UID:7472-1745143200-1745146800@www.sfvhbt.org
SUMMARY:Regular Service
DESCRIPTION:Hybrid Service. Please contact the Temple for details.
URL:https://www.sfvhbt.org/event/regular-service-8/
CATEGORIES:Regular Service
END:VEVENT
BEGIN:VEVENT
DTSTART;TZID=America/Los_Angeles:20250420T111500
DTEND;TZID=America/Los_Angeles:20250420T120000
DTSTAMP:20260424T002034
CREATED:20250330T140322Z
LAST-MODIFIED:20250407T150452Z
UID:7818-1745147700-1745150400@www.sfvhbt.org
SUMMARY:Yoga Fundraiser 5th Anniversary
DESCRIPTION:NOTE: This event has moved from the original date of April 13 \n  \nIn observance of our 5th Anniversary\, traci is generously proposing to hold a Yoga Fundraiser\nfor the temple\, open to all\, on April 20\, in the social hall after service\, from 11:15-12:00\, for $15 per person. \nPlease wear comfortable clothing and bring a yoga mat and water. Following the session\, we will enjoy a (semi-pot luck) tostada bar light lunch. For questions\, please contact Priscilla Mui at <prismui@aol.com>. \n 
URL:https://www.sfvhbt.org/event/yoga-fundraiser-5th-anniversary/
CATEGORIES:Events
END:VEVENT
BEGIN:VEVENT
DTSTART;TZID=America/Los_Angeles:20250426T183000
DTEND;TZID=America/Los_Angeles:20250426T213000
DTSTAMP:20260424T002034
CREATED:20250204T142149Z
LAST-MODIFIED:20250317T043348Z
UID:7474-1745692200-1745703000@www.sfvhbt.org
SUMMARY:Spring Fling & Social Dance
DESCRIPTION:Spring Fling & Social Dance\n\n \n\nWhen: Saturday\, April 26 from 6:30-9:30 p.m.\n\n \n\nWhere: SFVHBT – 9450 Remick Ave.\, Pacoima\, CA 91331\n\n \n\nAnother fun night of your favorite dance songs and hanging out with your friends. Appetizers and drinks will be available. Also\, there will be special surprise guest entertainers you won’t want to miss. For more information\, click here
URL:https://www.sfvhbt.org/event/spring-fling/
CATEGORIES:Special Event
END:VEVENT
BEGIN:VEVENT
DTSTART;TZID=America/Los_Angeles:20250427T100000
DTEND;TZID=America/Los_Angeles:20250427T110000
DTSTAMP:20260424T002034
CREATED:20250204T142237Z
LAST-MODIFIED:20250204T142237Z
UID:7476-1745748000-1745751600@www.sfvhbt.org
SUMMARY:Regular Service
DESCRIPTION:Hybrid service. Please contact the Temple for details.
URL:https://www.sfvhbt.org/event/regular-service-9/
CATEGORIES:Regular Service
END:VEVENT
END:VCALENDAR