BEGIN:VCALENDAR
VERSION:2.0
PRODID:-// - ECPv6.15.20//NONSGML v1.0//EN
CALSCALE:GREGORIAN
METHOD:PUBLISH
X-ORIGINAL-URL:https://www.sfvhbt.org
X-WR-CALDESC:Events for 
REFRESH-INTERVAL;VALUE=DURATION:PT1H
X-Robots-Tag:noindex
X-PUBLISHED-TTL:PT1H
BEGIN:VTIMEZONE
TZID:America/Los_Angeles
BEGIN:DAYLIGHT
TZOFFSETFROM:-0800
TZOFFSETTO:-0700
TZNAME:PDT
DTSTART:20240310T100000
END:DAYLIGHT
BEGIN:STANDARD
TZOFFSETFROM:-0700
TZOFFSETTO:-0800
TZNAME:PST
DTSTART:20241103T090000
END:STANDARD
BEGIN:DAYLIGHT
TZOFFSETFROM:-0800
TZOFFSETTO:-0700
TZNAME:PDT
DTSTART:20250309T100000
END:DAYLIGHT
BEGIN:STANDARD
TZOFFSETFROM:-0700
TZOFFSETTO:-0800
TZNAME:PST
DTSTART:20251102T090000
END:STANDARD
BEGIN:DAYLIGHT
TZOFFSETFROM:-0800
TZOFFSETTO:-0700
TZNAME:PDT
DTSTART:20260308T100000
END:DAYLIGHT
BEGIN:STANDARD
TZOFFSETFROM:-0700
TZOFFSETTO:-0800
TZNAME:PST
DTSTART:20261101T090000
END:STANDARD
END:VTIMEZONE
BEGIN:VEVENT
DTSTART;TZID=America/Los_Angeles:20250601T100000
DTEND;TZID=America/Los_Angeles:20250601T110000
DTSTAMP:20260423T212313
CREATED:20250330T140841Z
LAST-MODIFIED:20250330T140841Z
UID:7829-1748772000-1748775600@www.sfvhbt.org
SUMMARY:Shotsuki Monthly Memorial Service
DESCRIPTION:Hybrid service. Please contact the Temple for details.
URL:https://www.sfvhbt.org/event/shotsuki-monthly-memorial-service-4/
LOCATION:San Fernando Valley Hongwanji Buddhist Temple\, 9450 Remick Ave.\, Pacoima\, CA\, 91331\, United States
CATEGORIES:Shotsuki Monthly Memorial Service
END:VEVENT
BEGIN:VEVENT
DTSTART;TZID=America/Los_Angeles:20250608T100000
DTEND;TZID=America/Los_Angeles:20250608T110000
DTSTAMP:20260423T212313
CREATED:20250330T140924Z
LAST-MODIFIED:20250330T140924Z
UID:7831-1749376800-1749380400@www.sfvhbt.org
SUMMARY:Regular Service
DESCRIPTION:Hybrid service. Please contact the Temple for details.
URL:https://www.sfvhbt.org/event/regular-service-11/
LOCATION:San Fernando Valley Hongwanji Buddhist Temple\, 9450 Remick Ave.\, Pacoima\, CA\, 91331\, United States
CATEGORIES:Regular Service
END:VEVENT
BEGIN:VEVENT
DTSTART;TZID=America/Los_Angeles:20250612T180000
DTEND;TZID=America/Los_Angeles:20250612T200000
DTSTAMP:20260423T212313
CREATED:20250613T050430Z
LAST-MODIFIED:20250613T050430Z
UID:7884-1749751200-1749758400@www.sfvhbt.org
SUMMARY:Obon Dance Practice
DESCRIPTION:Please bring kachi kachi\, tenugui\, and folding/ round fan. Invite your family and friends\, no dance experience required. See you then!
URL:https://www.sfvhbt.org/event/obon-dance-practice/
LOCATION:San Fernando Valley Hongwanji Buddhist Temple\, 9450 Remick Ave.\, Pacoima\, CA\, 91331\, United States
END:VEVENT
BEGIN:VEVENT
DTSTART;TZID=America/Los_Angeles:20250615T100000
DTEND;TZID=America/Los_Angeles:20250615T110000
DTSTAMP:20260423T212313
CREATED:20250330T141024Z
LAST-MODIFIED:20250330T141242Z
UID:7833-1749981600-1749985200@www.sfvhbt.org
SUMMARY:Father's Day and Graduation Service (Otoki Following Service)
DESCRIPTION:Hybrid service. Please contact the Temple for details.
URL:https://www.sfvhbt.org/event/fathers-day-and-graduation-service-otoki-following-service/
LOCATION:San Fernando Valley Hongwanji Buddhist Temple\, 9450 Remick Ave.\, Pacoima\, CA\, 91331\, United States
CATEGORIES:Otoki Lunch,Special Service
END:VEVENT
BEGIN:VEVENT
DTSTART;TZID=America/Los_Angeles:20250622T100000
DTEND;TZID=America/Los_Angeles:20250622T110000
DTSTAMP:20260423T212313
CREATED:20250330T141316Z
LAST-MODIFIED:20250330T141325Z
UID:7835-1750586400-1750590000@www.sfvhbt.org
SUMMARY:Regular Service
DESCRIPTION:Hybrid service. Please contact the Temple for details.
URL:https://www.sfvhbt.org/event/regular-service-12/
LOCATION:San Fernando Valley Hongwanji Buddhist Temple\, 9450 Remick Ave.\, Pacoima\, CA\, 91331\, United States
CATEGORIES:Regular Service
END:VEVENT
BEGIN:VEVENT
DTSTART;TZID=America/Los_Angeles:20250624T180000
DTEND;TZID=America/Los_Angeles:20250624T200000
DTSTAMP:20260423T212313
CREATED:20250623T160047Z
LAST-MODIFIED:20250623T160047Z
UID:7895-1750788000-1750795200@www.sfvhbt.org
SUMMARY:Obon Dance Practice
DESCRIPTION:Please bring kachi kachi\, tenugui\, and folding/ round fan. Invite your family and friends\, no dance experience required. See you then!
URL:https://www.sfvhbt.org/event/obon-dance-practice-3/
LOCATION:San Fernando Valley Hongwanji Buddhist Temple\, 9450 Remick Ave.\, Pacoima\, CA\, 91331\, United States
END:VEVENT
BEGIN:VEVENT
DTSTART;TZID=America/Los_Angeles:20250626T180000
DTEND;TZID=America/Los_Angeles:20250626T200000
DTSTAMP:20260423T212313
CREATED:20250613T050644Z
LAST-MODIFIED:20250613T050644Z
UID:7886-1750960800-1750968000@www.sfvhbt.org
SUMMARY:Obon Dance Practice
DESCRIPTION:Please bring kachi kachi\, tenugui\, and folding/ round fan. Invite your family and friends\, no dance experience required. See you then!
URL:https://www.sfvhbt.org/event/obon-dance-practice-2/
END:VEVENT
BEGIN:VEVENT
DTSTART;TZID=America/Los_Angeles:20250628T160000
DTEND;TZID=America/Los_Angeles:20250628T210000
DTSTAMP:20260423T212313
CREATED:20250204T142559Z
LAST-MODIFIED:20250204T142559Z
UID:7484-1751126400-1751144400@www.sfvhbt.org
SUMMARY:Obon
DESCRIPTION:Save the Date. Details coming soon.
URL:https://www.sfvhbt.org/event/obon-3/
CATEGORIES:Special Event
END:VEVENT
BEGIN:VEVENT
DTSTART;TZID=America/Los_Angeles:20250629T170000
DTEND;TZID=America/Los_Angeles:20250629T210000
DTSTAMP:20260423T212313
CREATED:20250204T142636Z
LAST-MODIFIED:20250204T142636Z
UID:7486-1751216400-1751230800@www.sfvhbt.org
SUMMARY:Obon
DESCRIPTION:Save the date. Details coming soon.
URL:https://www.sfvhbt.org/event/obon-4/
CATEGORIES:Special Event
END:VEVENT
END:VCALENDAR