BEGIN:VCALENDAR
VERSION:2.0
PRODID:-// - ECPv6.15.20//NONSGML v1.0//EN
CALSCALE:GREGORIAN
METHOD:PUBLISH
X-ORIGINAL-URL:https://www.sfvhbt.org
X-WR-CALDESC:Events for 
REFRESH-INTERVAL;VALUE=DURATION:PT1H
X-Robots-Tag:noindex
X-PUBLISHED-TTL:PT1H
BEGIN:VTIMEZONE
TZID:America/Los_Angeles
BEGIN:DAYLIGHT
TZOFFSETFROM:-0800
TZOFFSETTO:-0700
TZNAME:PDT
DTSTART:20240310T100000
END:DAYLIGHT
BEGIN:STANDARD
TZOFFSETFROM:-0700
TZOFFSETTO:-0800
TZNAME:PST
DTSTART:20241103T090000
END:STANDARD
BEGIN:DAYLIGHT
TZOFFSETFROM:-0800
TZOFFSETTO:-0700
TZNAME:PDT
DTSTART:20250309T100000
END:DAYLIGHT
BEGIN:STANDARD
TZOFFSETFROM:-0700
TZOFFSETTO:-0800
TZNAME:PST
DTSTART:20251102T090000
END:STANDARD
BEGIN:DAYLIGHT
TZOFFSETFROM:-0800
TZOFFSETTO:-0700
TZNAME:PDT
DTSTART:20260308T100000
END:DAYLIGHT
BEGIN:STANDARD
TZOFFSETFROM:-0700
TZOFFSETTO:-0800
TZNAME:PST
DTSTART:20261101T090000
END:STANDARD
END:VTIMEZONE
BEGIN:VEVENT
DTSTART;TZID=America/Los_Angeles:20250907T100000
DTEND;TZID=America/Los_Angeles:20250907T110000
DTSTAMP:20260423T165327
CREATED:20250827T210510Z
LAST-MODIFIED:20250827T225058Z
UID:7945-1757239200-1757242800@www.sfvhbt.org
SUMMARY:Shotsuki Monthly Memorial Service/Dharma School begins
DESCRIPTION:Hybrid service. Please contact the Temple for details.
URL:https://www.sfvhbt.org/event/shotsuki-monthly-memorial-service-dharma-school-begins/
CATEGORIES:Shotsuki Monthly Memorial Service
END:VEVENT
BEGIN:VEVENT
DTSTART;TZID=America/Los_Angeles:20250907T110000
DTEND;TZID=America/Los_Angeles:20250907T120000
DTSTAMP:20260423T165327
CREATED:20250827T225222Z
LAST-MODIFIED:20250827T225222Z
UID:7947-1757242800-1757246400@www.sfvhbt.org
SUMMARY:Brunch & Bingo
DESCRIPTION:More information can be found here
URL:https://www.sfvhbt.org/event/brunch-bingo/
END:VEVENT
BEGIN:VEVENT
DTSTART;TZID=America/Los_Angeles:20250914T100000
DTEND;TZID=America/Los_Angeles:20250914T110000
DTSTAMP:20260423T165327
CREATED:20250827T230320Z
LAST-MODIFIED:20250827T230320Z
UID:7962-1757844000-1757847600@www.sfvhbt.org
SUMMARY:Regular Service
DESCRIPTION:Service is hybrid. Please contact the main office for details.
URL:https://www.sfvhbt.org/event/regular-service-14/
CATEGORIES:Regular Service
END:VEVENT
BEGIN:VEVENT
DTSTART;TZID=America/Los_Angeles:20250921T100000
DTEND;TZID=America/Los_Angeles:20250921T110000
DTSTAMP:20260423T165327
CREATED:20250827T225444Z
LAST-MODIFIED:20250827T225444Z
UID:7950-1758448800-1758452400@www.sfvhbt.org
SUMMARY:Fall Ohigan Service and Seminar
DESCRIPTION:This is a hybrid service. Please contact the office for details.
URL:https://www.sfvhbt.org/event/fall-ohigan-service-and-seminar/
CATEGORIES:Special Service
END:VEVENT
BEGIN:VEVENT
DTSTART;TZID=America/Los_Angeles:20250928T100000
DTEND;TZID=America/Los_Angeles:20250928T110000
DTSTAMP:20260423T165327
CREATED:20250827T230408Z
LAST-MODIFIED:20250827T230408Z
UID:7964-1759053600-1759057200@www.sfvhbt.org
SUMMARY:Regular Service
DESCRIPTION:Service is hybrid. Please contact the main office for details.
URL:https://www.sfvhbt.org/event/regular-service-15/
CATEGORIES:Regular Service
END:VEVENT
END:VCALENDAR