BEGIN:VCALENDAR
VERSION:2.0
PRODID:-// - ECPv6.15.20//NONSGML v1.0//EN
CALSCALE:GREGORIAN
METHOD:PUBLISH
X-ORIGINAL-URL:https://www.sfvhbt.org
X-WR-CALDESC:Events for 
REFRESH-INTERVAL;VALUE=DURATION:PT1H
X-Robots-Tag:noindex
X-PUBLISHED-TTL:PT1H
BEGIN:VTIMEZONE
TZID:America/Los_Angeles
BEGIN:DAYLIGHT
TZOFFSETFROM:-0800
TZOFFSETTO:-0700
TZNAME:PDT
DTSTART:20240310T100000
END:DAYLIGHT
BEGIN:STANDARD
TZOFFSETFROM:-0700
TZOFFSETTO:-0800
TZNAME:PST
DTSTART:20241103T090000
END:STANDARD
BEGIN:DAYLIGHT
TZOFFSETFROM:-0800
TZOFFSETTO:-0700
TZNAME:PDT
DTSTART:20250309T100000
END:DAYLIGHT
BEGIN:STANDARD
TZOFFSETFROM:-0700
TZOFFSETTO:-0800
TZNAME:PST
DTSTART:20251102T090000
END:STANDARD
BEGIN:DAYLIGHT
TZOFFSETFROM:-0800
TZOFFSETTO:-0700
TZNAME:PDT
DTSTART:20260308T100000
END:DAYLIGHT
BEGIN:STANDARD
TZOFFSETFROM:-0700
TZOFFSETTO:-0800
TZNAME:PST
DTSTART:20261101T090000
END:STANDARD
END:VTIMEZONE
BEGIN:VEVENT
DTSTART;TZID=America/Los_Angeles:20251005T100000
DTEND;TZID=America/Los_Angeles:20251005T120000
DTSTAMP:20260423T154004
CREATED:20250827T225751Z
LAST-MODIFIED:20250827T225751Z
UID:7952-1759658400-1759665600@www.sfvhbt.org
SUMMARY:Temple Clean Up - No Service
DESCRIPTION:EVERYONE: Please bring something for potluck lunch. \nWisteria Toban (4) – Classrooms\, storage rooms\, and storage containers. \nLotus Toban (2) – Temple grounds – this includes weeding; and check the hedge in front of the temple grounds that runs along the sidewalk for litter. \nOrchid Toban (3) – Manage potluck; social hall (throw away or put away unused items)\, kitchen\, pantries\, refrigerators/freezer (throw away unmarked food); trophy room. \nIf anyone finishes in their own area early\, please help in other areas. \nIf you would rather help in an area other than the assigned area\, that’s fine. \nThank you very much for participating!
URL:https://www.sfvhbt.org/event/temple-clean-up-no-service/
CATEGORIES:Events
END:VEVENT
BEGIN:VEVENT
DTSTART;TZID=America/Los_Angeles:20251012T100000
DTEND;TZID=America/Los_Angeles:20251012T170000
DTSTAMP:20260423T154004
CREATED:20250827T225925Z
LAST-MODIFIED:20250827T225925Z
UID:7954-1760263200-1760288400@www.sfvhbt.org
SUMMARY:Shotsuki Monthly and Eshinni-ko/Kakushinni-ko memorial services
DESCRIPTION:Service is hybrid. Please contact the office for details. \nSpecial Guest speaker: Rev. Nobuko Miyoshi\, Resident Minister\, West Covina BT
URL:https://www.sfvhbt.org/event/shotsuki-monthly-and-eshinni-ko-kakushinni-ko-memorial-services-2/
CATEGORIES:Shotsuki Monthly Memorial Service,Special Service
END:VEVENT
BEGIN:VEVENT
DTSTART;TZID=America/Los_Angeles:20251019T100000
DTEND;TZID=America/Los_Angeles:20251019T110000
DTSTAMP:20260423T154004
CREATED:20250827T230004Z
LAST-MODIFIED:20250827T230004Z
UID:7956-1760868000-1760871600@www.sfvhbt.org
SUMMARY:Pet Memorial Service
DESCRIPTION:Service is hybrid. Please contact the main office for details.
URL:https://www.sfvhbt.org/event/pet-memorial-service/
CATEGORIES:Special Service
END:VEVENT
BEGIN:VEVENT
DTSTART;TZID=America/Los_Angeles:20251025T093000
DTEND;TZID=America/Los_Angeles:20251025T150000
DTSTAMP:20260423T154004
CREATED:20250827T230115Z
LAST-MODIFIED:20250827T230115Z
UID:7958-1761384600-1761404400@www.sfvhbt.org
SUMMARY:Southern District Buddhist Conference
DESCRIPTION:Details can be found here
URL:https://www.sfvhbt.org/event/southern-district-buddhist-conference/
END:VEVENT
BEGIN:VEVENT
DTSTART;TZID=America/Los_Angeles:20251026T100000
DTEND;TZID=America/Los_Angeles:20251026T110000
DTSTAMP:20260423T154004
CREATED:20250827T230157Z
LAST-MODIFIED:20251004T061838Z
UID:7960-1761472800-1761476400@www.sfvhbt.org
SUMMARY:No Service
DESCRIPTION:No service today.
URL:https://www.sfvhbt.org/event/regular-service-13/
CATEGORIES:Regular Service
END:VEVENT
END:VCALENDAR