BEGIN:VCALENDAR
VERSION:2.0
PRODID:-// - ECPv6.15.20//NONSGML v1.0//EN
CALSCALE:GREGORIAN
METHOD:PUBLISH
X-ORIGINAL-URL:https://www.sfvhbt.org
X-WR-CALDESC:Events for 
REFRESH-INTERVAL;VALUE=DURATION:PT1H
X-Robots-Tag:noindex
X-PUBLISHED-TTL:PT1H
BEGIN:VTIMEZONE
TZID:America/Los_Angeles
BEGIN:DAYLIGHT
TZOFFSETFROM:-0800
TZOFFSETTO:-0700
TZNAME:PDT
DTSTART:20240310T100000
END:DAYLIGHT
BEGIN:STANDARD
TZOFFSETFROM:-0700
TZOFFSETTO:-0800
TZNAME:PST
DTSTART:20241103T090000
END:STANDARD
BEGIN:DAYLIGHT
TZOFFSETFROM:-0800
TZOFFSETTO:-0700
TZNAME:PDT
DTSTART:20250309T100000
END:DAYLIGHT
BEGIN:STANDARD
TZOFFSETFROM:-0700
TZOFFSETTO:-0800
TZNAME:PST
DTSTART:20251102T090000
END:STANDARD
BEGIN:DAYLIGHT
TZOFFSETFROM:-0800
TZOFFSETTO:-0700
TZNAME:PDT
DTSTART:20260308T100000
END:DAYLIGHT
BEGIN:STANDARD
TZOFFSETFROM:-0700
TZOFFSETTO:-0800
TZNAME:PST
DTSTART:20261101T090000
END:STANDARD
END:VTIMEZONE
BEGIN:VEVENT
DTSTART;TZID=America/Los_Angeles:20251207T100000
DTEND;TZID=America/Los_Angeles:20251207T110000
DTSTAMP:20260423T125529
CREATED:20251004T062322Z
LAST-MODIFIED:20251004T062322Z
UID:7986-1765101600-1765105200@www.sfvhbt.org
SUMMARY:Shotsuki Monthly Memorial and Bodhi Day Service
DESCRIPTION:Service is hybrid. Please contact the main office for details.
URL:https://www.sfvhbt.org/event/shotsuki-monthly-memorial-and-bodhi-day-service/
CATEGORIES:Shotsuki Monthly Memorial Service,Special Event
END:VEVENT
BEGIN:VEVENT
DTSTART;TZID=America/Los_Angeles:20251213T080000
DTEND;TZID=America/Los_Angeles:20251213T150000
DTSTAMP:20260423T125529
CREATED:20251004T062549Z
LAST-MODIFIED:20251004T062549Z
UID:7988-1765612800-1765638000@www.sfvhbt.org
SUMMARY:Mochitsuki
DESCRIPTION:For more information\, please go here
URL:https://www.sfvhbt.org/event/mochitsuki-3/
CATEGORIES:Special Event
END:VEVENT
BEGIN:VEVENT
DTSTART;TZID=America/Los_Angeles:20251214T060000
DTEND;TZID=America/Los_Angeles:20251214T150000
DTSTAMP:20260423T125529
CREATED:20251004T064641Z
LAST-MODIFIED:20251004T064641Z
UID:7996-1765692000-1765724400@www.sfvhbt.org
SUMMARY:Mochitsuki
DESCRIPTION:For more information\, go here
URL:https://www.sfvhbt.org/event/mochitsuki-4/
END:VEVENT
BEGIN:VEVENT
DTSTART;TZID=America/Los_Angeles:20251221T100000
DTEND;TZID=America/Los_Angeles:20251221T110000
DTSTAMP:20260423T125529
CREATED:20251129T063925Z
LAST-MODIFIED:20251129T063925Z
UID:8008-1766311200-1766314800@www.sfvhbt.org
SUMMARY:Regular Service
DESCRIPTION:Service is hybrid. Please contact the main office for details.
URL:https://www.sfvhbt.org/event/regular-service-19/
CATEGORIES:Regular Service
END:VEVENT
BEGIN:VEVENT
DTSTART;VALUE=DATE:20251228
DTEND;VALUE=DATE:20251229
DTSTAMP:20260423T125529
CREATED:20251129T063948Z
LAST-MODIFIED:20251129T063948Z
UID:8010-1766880000-1766966399@www.sfvhbt.org
SUMMARY:No Service
DESCRIPTION:
URL:https://www.sfvhbt.org/event/no-service-16/
END:VEVENT
BEGIN:VEVENT
DTSTART;TZID=America/Los_Angeles:20251231T180000
DTEND;TZID=America/Los_Angeles:20251231T200000
DTSTAMP:20260423T125529
CREATED:20251004T063146Z
LAST-MODIFIED:20251004T063146Z
UID:7992-1767204000-1767211200@www.sfvhbt.org
SUMMARY:New Year's Eve Service
DESCRIPTION:Special service.
URL:https://www.sfvhbt.org/event/new-years-eve-service/
CATEGORIES:Special Event,Special Service
END:VEVENT
END:VCALENDAR