BEGIN:VCALENDAR
VERSION:2.0
PRODID:-// - ECPv6.15.20//NONSGML v1.0//EN
CALSCALE:GREGORIAN
METHOD:PUBLISH
X-ORIGINAL-URL:https://www.sfvhbt.org
X-WR-CALDESC:Events for 
REFRESH-INTERVAL;VALUE=DURATION:PT1H
X-Robots-Tag:noindex
X-PUBLISHED-TTL:PT1H
BEGIN:VTIMEZONE
TZID:America/Los_Angeles
BEGIN:DAYLIGHT
TZOFFSETFROM:-0800
TZOFFSETTO:-0700
TZNAME:PDT
DTSTART:20250309T100000
END:DAYLIGHT
BEGIN:STANDARD
TZOFFSETFROM:-0700
TZOFFSETTO:-0800
TZNAME:PST
DTSTART:20251102T090000
END:STANDARD
BEGIN:DAYLIGHT
TZOFFSETFROM:-0800
TZOFFSETTO:-0700
TZNAME:PDT
DTSTART:20260308T100000
END:DAYLIGHT
BEGIN:STANDARD
TZOFFSETFROM:-0700
TZOFFSETTO:-0800
TZNAME:PST
DTSTART:20261101T090000
END:STANDARD
BEGIN:DAYLIGHT
TZOFFSETFROM:-0800
TZOFFSETTO:-0700
TZNAME:PDT
DTSTART:20270314T100000
END:DAYLIGHT
BEGIN:STANDARD
TZOFFSETFROM:-0700
TZOFFSETTO:-0800
TZNAME:PST
DTSTART:20271107T090000
END:STANDARD
END:VTIMEZONE
BEGIN:VEVENT
DTSTART;TZID=America/Los_Angeles:20260308T100000
DTEND;TZID=America/Los_Angeles:20260308T110000
DTSTAMP:20260423T083505
CREATED:20260210T182454Z
LAST-MODIFIED:20260210T182542Z
UID:8129-1772964000-1772967600@www.sfvhbt.org
SUMMARY:Regular Service
DESCRIPTION:Hybrid service. Please contact the front office for details.
URL:https://www.sfvhbt.org/event/regular-service-24/
LOCATION:CA
CATEGORIES:Regular Service
END:VEVENT
BEGIN:VEVENT
DTSTART;TZID=America/Los_Angeles:20260308T113000
DTEND;TZID=America/Los_Angeles:20260308T130000
DTSTAMP:20260423T083505
CREATED:20260210T182331Z
LAST-MODIFIED:20260210T182331Z
UID:8127-1772969400-1772974800@www.sfvhbt.org
SUMMARY:Kumihimo Workshop #2
DESCRIPTION:The traditional Japanese Art of Braiding functional and decorative cords. \nMake your own kumihimo bracelet in this introductory workshop with Donna Kobayashi! \n  \nMore information can be found here
URL:https://www.sfvhbt.org/event/kumihimo-workshop-2/
LOCATION:CA
CATEGORIES:Events
END:VEVENT
BEGIN:VEVENT
DTSTART;TZID=America/Los_Angeles:20260315T113000
DTEND;TZID=America/Los_Angeles:20260315T130000
DTSTAMP:20260423T083505
CREATED:20260303T213857Z
LAST-MODIFIED:20260303T213909Z
UID:8162-1773574200-1773579600@www.sfvhbt.org
SUMMARY:Tonkatsu with Kuni-san!
DESCRIPTION:SFVHBT’s DME Let’s Cook series presents … \nTonkatsu with Kuni-san ! \nTon (pork) katsu (cutlet) is a popular Japanese dish. Tonkatsu was adapted into Japanese\ncuisine in the late 19th century\, inspired by European schnitzel.\nlearn how to prepare:\n* TONKATSU\n* CABBAGE SALAD\n* SAUCES \nENJOY your freshly made meal (includes rice\, pickles and miso soup) in social hall! \nMore info can be found here
URL:https://www.sfvhbt.org/event/tonkatsu-with-kuni-san/
LOCATION:CA
CATEGORIES:Events
END:VEVENT
BEGIN:VEVENT
DTSTART;TZID=America/Los_Angeles:20260321T170000
DTEND;TZID=America/Los_Angeles:20260321T190000
DTSTAMP:20260423T083505
CREATED:20260209T214916Z
LAST-MODIFIED:20260209T215031Z
UID:8101-1774112400-1774119600@www.sfvhbt.org
SUMMARY:Chili Bingo Event
DESCRIPTION:“ Calling all chili cooks! “ our annual Chili Bingo Event is coming up!  Dust off your crockpot\, try out a new recipe or use your favorite one and enter your chili into the cook off. \nCome by and taste a wide variety of chili and vote for your favorite one. After a hearty meal – 4 games of BINGO will be played. \nMore Information can be found here
URL:https://www.sfvhbt.org/event/chili-bingo-event/
LOCATION:CA
CATEGORIES:Events
END:VEVENT
BEGIN:VEVENT
DTSTART;TZID=America/Los_Angeles:20260322T100000
DTEND;TZID=America/Los_Angeles:20260322T110000
DTSTAMP:20260423T083505
CREATED:20260210T182746Z
LAST-MODIFIED:20260210T183634Z
UID:8131-1774173600-1774177200@www.sfvhbt.org
SUMMARY:Regular Service
DESCRIPTION:Hybrid service. Please contact the front office for details.
URL:https://www.sfvhbt.org/event/regular-service-25/
LOCATION:CA
CATEGORIES:Regular Service
END:VEVENT
BEGIN:VEVENT
DTSTART;TZID=America/Los_Angeles:20260326T190000
DTEND;TZID=America/Los_Angeles:20260326T200000
DTSTAMP:20260423T083505
CREATED:20260210T183834Z
LAST-MODIFIED:20260210T183834Z
UID:8133-1774551600-1774555200@www.sfvhbt.org
SUMMARY:Discovering Meaning in Buddhist Traditions
DESCRIPTION:Have you ever wondered about the meaning behind the altar flowers\, incense\, food offerings\, or Onenju(Buddhist beads) you see at the temple? \nThis study series explores the traditions\, customs\, and adornments found in Jodo Shinshu temple life from altar decorations to Buddhist rituals and everyday practices. Each session reveals how these forms embody the Buddha’s infinite wisdom and compassion toward each of us\, and express our gratitude and reverence. \nFor more information\, go here \n 
URL:https://www.sfvhbt.org/event/discovering-meaning-in-buddhist-traditions-2/
LOCATION:CA
CATEGORIES:Events
END:VEVENT
BEGIN:VEVENT
DTSTART;TZID=America/Los_Angeles:20260329T100000
DTEND;TZID=America/Los_Angeles:20260329T110000
DTSTAMP:20260423T083505
CREATED:20260210T184009Z
LAST-MODIFIED:20260210T184009Z
UID:8135-1774778400-1774782000@www.sfvhbt.org
SUMMARY:Spring Ohigan Service and Seminar
DESCRIPTION:Special Speaker: Rev Koe Umezu\, Assistant Minister\, WLABT \nHybrid Service. Please contact the Front Office for more details.
URL:https://www.sfvhbt.org/event/spring-ohigan-service-and-seminar/
LOCATION:CA
CATEGORIES:Special Service
END:VEVENT
END:VCALENDAR