BEGIN:VCALENDAR
VERSION:2.0
PRODID:-// - ECPv6.15.20//NONSGML v1.0//EN
CALSCALE:GREGORIAN
METHOD:PUBLISH
X-ORIGINAL-URL:https://www.sfvhbt.org
X-WR-CALDESC:Events for 
REFRESH-INTERVAL;VALUE=DURATION:PT1H
X-Robots-Tag:noindex
X-PUBLISHED-TTL:PT1H
BEGIN:VTIMEZONE
TZID:America/Los_Angeles
BEGIN:DAYLIGHT
TZOFFSETFROM:-0800
TZOFFSETTO:-0700
TZNAME:PDT
DTSTART:20250309T100000
END:DAYLIGHT
BEGIN:STANDARD
TZOFFSETFROM:-0700
TZOFFSETTO:-0800
TZNAME:PST
DTSTART:20251102T090000
END:STANDARD
BEGIN:DAYLIGHT
TZOFFSETFROM:-0800
TZOFFSETTO:-0700
TZNAME:PDT
DTSTART:20260308T100000
END:DAYLIGHT
BEGIN:STANDARD
TZOFFSETFROM:-0700
TZOFFSETTO:-0800
TZNAME:PST
DTSTART:20261101T090000
END:STANDARD
BEGIN:DAYLIGHT
TZOFFSETFROM:-0800
TZOFFSETTO:-0700
TZNAME:PDT
DTSTART:20270314T100000
END:DAYLIGHT
BEGIN:STANDARD
TZOFFSETFROM:-0700
TZOFFSETTO:-0800
TZNAME:PST
DTSTART:20271107T090000
END:STANDARD
END:VTIMEZONE
BEGIN:VEVENT
DTSTART;TZID=America/Los_Angeles:20260503T100000
DTEND;TZID=America/Los_Angeles:20260503T110000
DTSTAMP:20260423T083931
CREATED:20260414T192802Z
LAST-MODIFIED:20260414T192802Z
UID:8197-1777802400-1777806000@www.sfvhbt.org
SUMMARY:Shotsuki Service
DESCRIPTION:This is an in-person and virtual service. Please contact the main office for more details.
URL:https://www.sfvhbt.org/event/shotsuki-service/
LOCATION:CA
CATEGORIES:Shotsuki Monthly Memorial Service
END:VEVENT
BEGIN:VEVENT
DTSTART;TZID=America/Los_Angeles:20260510T100000
DTEND;TZID=America/Los_Angeles:20260510T110000
DTSTAMP:20260423T083931
CREATED:20260414T192913Z
LAST-MODIFIED:20260414T192930Z
UID:8199-1778407200-1778410800@www.sfvhbt.org
SUMMARY:Gotan-e: Shinran Shonin’s birthday and Mother’s Day celebration
DESCRIPTION:This is an inperson and virtual service. Please contact the front office for additional details. \nOtoki following service.
URL:https://www.sfvhbt.org/event/gotan-e-shinran-shonins-birthday-and-mothers-day-celebration/
LOCATION:San Fernando Valley Hongwanji Buddhist Temple\, 9450 Remick Ave.\, Pacoima\, CA\, 91331\, United States
CATEGORIES:Special Service
END:VEVENT
BEGIN:VEVENT
DTSTART;TZID=America/Los_Angeles:20260517T100000
DTEND;TZID=America/Los_Angeles:20260517T110000
DTSTAMP:20260423T083931
CREATED:20260414T193220Z
LAST-MODIFIED:20260414T193220Z
UID:8202-1779012000-1779015600@www.sfvhbt.org
SUMMARY:Regular Service
DESCRIPTION:This is an in-peson and virtual service. Please contact the front office for more details.
URL:https://www.sfvhbt.org/event/regular-service-29/
LOCATION:San Fernando Valley Hongwanji Buddhist Temple\, 9450 Remick Ave.\, Pacoima\, CA\, 91331\, United States
CATEGORIES:Regular Service
END:VEVENT
BEGIN:VEVENT
DTSTART;TZID=America/Los_Angeles:20260517T110000
DTEND;TZID=America/Los_Angeles:20260517T120000
DTSTAMP:20260423T083931
CREATED:20260414T193442Z
LAST-MODIFIED:20260414T193442Z
UID:8204-1779015600-1779019200@www.sfvhbt.org
SUMMARY:May Tea Party
DESCRIPTION:You are invited to SFVHBT’s Spring Tea Party. \nMore information can be found here
URL:https://www.sfvhbt.org/event/may-tea-party/
LOCATION:SFVHBT Social Hall
CATEGORIES:Special Event
END:VEVENT
BEGIN:VEVENT
DTSTART;TZID=America/Los_Angeles:20260524T100000
DTEND;TZID=America/Los_Angeles:20260524T110000
DTSTAMP:20260423T083931
CREATED:20260414T193629Z
LAST-MODIFIED:20260414T193629Z
UID:8206-1779616800-1779620400@www.sfvhbt.org
SUMMARY:Regular Service
DESCRIPTION:This is an in-person and virtual service. Please contact the front office for more details.
URL:https://www.sfvhbt.org/event/regular-service-30/
LOCATION:San Fernando Valley Hongwanji Buddhist Temple\, 9450 Remick Ave.\, Pacoima\, CA\, 91331\, United States
CATEGORIES:Regular Service
END:VEVENT
BEGIN:VEVENT
DTSTART;TZID=America/Los_Angeles:20260528T190000
DTEND;TZID=America/Los_Angeles:20260528T200000
DTSTAMP:20260423T083931
CREATED:20260414T193738Z
LAST-MODIFIED:20260414T193738Z
UID:8208-1779994800-1779998400@www.sfvhbt.org
SUMMARY:Buddhism Study Class
DESCRIPTION:Have you ever wondered about the meaning behind the altar flowers\, incense\, food offerings\, or Onenju(Buddhist beads) you see at the temple? \nThis study series explores the traditions\, customs\, and adornments found in Jodo Shinshu temple life from altar decorations to Buddhist rituals and everyday practices. Each session reveals how these forms embody the Buddha’s infinite wisdom and compassion toward each of us\, and express our gratitude and reverence. \nFor more information\, go here \n 
URL:https://www.sfvhbt.org/event/buddhism-study-class/
LOCATION:CA
CATEGORIES:Buddhist Study Series
END:VEVENT
BEGIN:VEVENT
DTSTART;TZID=America/Los_Angeles:20260531T100000
DTEND;TZID=America/Los_Angeles:20260531T110000
DTSTAMP:20260423T083931
CREATED:20260414T193929Z
LAST-MODIFIED:20260414T193929Z
UID:8210-1780221600-1780225200@www.sfvhbt.org
SUMMARY:Memorial Day Service
DESCRIPTION:This is an in-person and virtual service. Please contact the front office for more details.
URL:https://www.sfvhbt.org/event/memorial-day-service-2/
LOCATION:San Fernando Valley Hongwanji Buddhist Temple\, 9450 Remick Ave.\, Pacoima\, CA\, 91331\, United States
CATEGORIES:Regular Service
END:VEVENT
END:VCALENDAR